BEGIN:VCALENDAR
VERSION:2.0
PRODID:-//TU Delft Campus - ECPv6.15.17//NONSGML v1.0//EN
CALSCALE:GREGORIAN
METHOD:PUBLISH
X-WR-CALNAME:TU Delft Campus
X-ORIGINAL-URL:https://oud.tudelftcampus.nl/nl/
X-WR-CALDESC:Evenementen voor TU Delft Campus
REFRESH-INTERVAL;VALUE=DURATION:PT1H
X-Robots-Tag:noindex
X-PUBLISHED-TTL:PT1H
BEGIN:VTIMEZONE
TZID:Europe/Amsterdam
BEGIN:DAYLIGHT
TZOFFSETFROM:+0100
TZOFFSETTO:+0200
TZNAME:CEST
DTSTART:20220327T010000
END:DAYLIGHT
BEGIN:STANDARD
TZOFFSETFROM:+0200
TZOFFSETTO:+0100
TZNAME:CET
DTSTART:20221030T010000
END:STANDARD
BEGIN:DAYLIGHT
TZOFFSETFROM:+0100
TZOFFSETTO:+0200
TZNAME:CEST
DTSTART:20230326T010000
END:DAYLIGHT
BEGIN:STANDARD
TZOFFSETFROM:+0200
TZOFFSETTO:+0100
TZNAME:CET
DTSTART:20231029T010000
END:STANDARD
BEGIN:DAYLIGHT
TZOFFSETFROM:+0100
TZOFFSETTO:+0200
TZNAME:CEST
DTSTART:20240331T010000
END:DAYLIGHT
BEGIN:STANDARD
TZOFFSETFROM:+0200
TZOFFSETTO:+0100
TZNAME:CET
DTSTART:20241027T010000
END:STANDARD
END:VTIMEZONE
BEGIN:VEVENT
DTSTART;TZID=Europe/Amsterdam:20231002T203000
DTEND;TZID=Europe/Amsterdam:20231002T223000
DTSTAMP:20260423T001359
CREATED:20230713T122640Z
LAST-MODIFIED:20230713T122640Z
UID:16965-1696278600-1696285800@oud.tudelftcampus.nl
SUMMARY:Zoals Plato al zei...
DESCRIPTION:  \nWhat would Plato say about polyamory\, Machiavelli about the European Union\, or Arendt about chatbots? Philosopher and head of Studium Generale\, Leon Heuts – former editor in chief of Filosofie Magazine – delves into the history of philosophy through contemporary themes. \nGet your ticket here!
URL:https://oud.tudelftcampus.nl/nl/event/zoals-plato-al-zei/
LOCATION:Theater de Veste\, Vesteplein 1\, Delft\, 2611 PK
ATTACH;FMTTYPE=image/jpeg:https://oud.tudelftcampus.nl/wp-content/uploads/2023/07/blob.jpg
END:VEVENT
END:VCALENDAR