BEGIN:VCALENDAR
VERSION:2.0
PRODID:-//TU Delft Campus - ECPv6.15.17//NONSGML v1.0//EN
CALSCALE:GREGORIAN
METHOD:PUBLISH
X-WR-CALNAME:TU Delft Campus
X-ORIGINAL-URL:https://oud.tudelftcampus.nl/nl/
X-WR-CALDESC:Evenementen voor TU Delft Campus
REFRESH-INTERVAL;VALUE=DURATION:PT1H
X-Robots-Tag:noindex
X-PUBLISHED-TTL:PT1H
BEGIN:VTIMEZONE
TZID:Europe/Amsterdam
BEGIN:DAYLIGHT
TZOFFSETFROM:+0100
TZOFFSETTO:+0200
TZNAME:CEST
DTSTART:20220327T010000
END:DAYLIGHT
BEGIN:STANDARD
TZOFFSETFROM:+0200
TZOFFSETTO:+0100
TZNAME:CET
DTSTART:20221030T010000
END:STANDARD
BEGIN:DAYLIGHT
TZOFFSETFROM:+0100
TZOFFSETTO:+0200
TZNAME:CEST
DTSTART:20230326T010000
END:DAYLIGHT
BEGIN:STANDARD
TZOFFSETFROM:+0200
TZOFFSETTO:+0100
TZNAME:CET
DTSTART:20231029T010000
END:STANDARD
BEGIN:DAYLIGHT
TZOFFSETFROM:+0100
TZOFFSETTO:+0200
TZNAME:CEST
DTSTART:20240331T010000
END:DAYLIGHT
BEGIN:STANDARD
TZOFFSETFROM:+0200
TZOFFSETTO:+0100
TZNAME:CET
DTSTART:20241027T010000
END:STANDARD
END:VTIMEZONE
BEGIN:VEVENT
DTSTART;TZID=Europe/Amsterdam:20231001T110000
DTEND;TZID=Europe/Amsterdam:20231001T130000
DTSTAMP:20260422T235548
CREATED:20230713T121602Z
LAST-MODIFIED:20230713T121602Z
UID:16964-1696158000-1696165200@oud.tudelftcampus.nl
SUMMARY:Van Leeuwenhoeklezing
DESCRIPTION:  \nHave you ever wondered what goes on behind the doors of TU Delft? What do all those scientists actually do besides conducting research and teaching? \nStudium Generale of TU Delft regularly organizes the Van Leeuwenhoeklezing. This lecture is for anyone who wants to learn more about technology and TU Delft. From minimally invasive surgery to railway tunnels\, from wind turbines to satellites\, technology is everywhere. At TU Delft\, they research\, conceive\, and design the technology of tomorrow. \nRegister here for the lecture\, its free!
URL:https://oud.tudelftcampus.nl/nl/event/van-leeuwenhoeklezing/
LOCATION:Theater de Veste\, Vesteplein 1\, Delft\, 2611 PK
ATTACH;FMTTYPE=image/png:https://oud.tudelftcampus.nl/wp-content/uploads/2023/07/Schermafbeelding-2023-07-13-141403.png
END:VEVENT
END:VCALENDAR