BEGIN:VCALENDAR
VERSION:2.0
PRODID:-//TU Delft Campus - ECPv6.15.17//NONSGML v1.0//EN
CALSCALE:GREGORIAN
METHOD:PUBLISH
X-WR-CALNAME:TU Delft Campus
X-ORIGINAL-URL:https://oud.tudelftcampus.nl/nl/
X-WR-CALDESC:Evenementen voor TU Delft Campus
REFRESH-INTERVAL;VALUE=DURATION:PT1H
X-Robots-Tag:noindex
X-PUBLISHED-TTL:PT1H
BEGIN:VTIMEZONE
TZID:Europe/Amsterdam
BEGIN:DAYLIGHT
TZOFFSETFROM:+0100
TZOFFSETTO:+0200
TZNAME:CEST
DTSTART:20220327T010000
END:DAYLIGHT
BEGIN:STANDARD
TZOFFSETFROM:+0200
TZOFFSETTO:+0100
TZNAME:CET
DTSTART:20221030T010000
END:STANDARD
BEGIN:DAYLIGHT
TZOFFSETFROM:+0100
TZOFFSETTO:+0200
TZNAME:CEST
DTSTART:20230326T010000
END:DAYLIGHT
BEGIN:STANDARD
TZOFFSETFROM:+0200
TZOFFSETTO:+0100
TZNAME:CET
DTSTART:20231029T010000
END:STANDARD
BEGIN:DAYLIGHT
TZOFFSETFROM:+0100
TZOFFSETTO:+0200
TZNAME:CEST
DTSTART:20240331T010000
END:DAYLIGHT
BEGIN:STANDARD
TZOFFSETFROM:+0200
TZOFFSETTO:+0100
TZNAME:CET
DTSTART:20241027T010000
END:STANDARD
END:VTIMEZONE
BEGIN:VEVENT
DTSTART;TZID=Europe/Amsterdam:20231001T110000
DTEND;TZID=Europe/Amsterdam:20231001T130000
DTSTAMP:20260423T000204
CREATED:20230822T143852Z
LAST-MODIFIED:20230822T143852Z
UID:17477-1696158000-1696165200@oud.tudelftcampus.nl
SUMMARY:Van Leeuwenhoeklezing - Anders kijken naar de stad
DESCRIPTION:  \nIn the city\, everything is designed: the width of the street\, the height of the buildings\, the placement of the tree. Tess Broekmans invites you to perceive your everyday environment differently. How does an urban planner shape the city? What has been devised by designers\, and what has arisen from usage? \nStudium Generale of TU Delft regularly organizes the Van Leeuwenhoeklezing. This lecture is for anyone who wants to learn more about technology and TU Delft. From minimally invasive surgery to railway tunnels\, from wind turbines to satellites\, technology is everywhere. At TU Delft\, they research\, conceive\, and design the technology of tomorrow. \nRegister here for the lecture\, its free!
URL:https://oud.tudelftcampus.nl/nl/event/van-leeuwenhoeklezing-anders-kijken-naar-de-stad/
LOCATION:Theater de Veste\, Vesteplein 1\, Delft\, 2611 PK
ATTACH;FMTTYPE=image/jpeg:https://oud.tudelftcampus.nl/wp-content/uploads/2023/08/marco-d-abramo-LCTWDRz7BjQ-unsplash-scaled.jpg
END:VEVENT
END:VCALENDAR