BEGIN:VCALENDAR
VERSION:2.0
PRODID:-//TU Delft Campus - ECPv6.15.17//NONSGML v1.0//EN
CALSCALE:GREGORIAN
METHOD:PUBLISH
X-WR-CALNAME:TU Delft Campus
X-ORIGINAL-URL:https://oud.tudelftcampus.nl/nl/
X-WR-CALDESC:Evenementen voor TU Delft Campus
REFRESH-INTERVAL;VALUE=DURATION:PT1H
X-Robots-Tag:noindex
X-PUBLISHED-TTL:PT1H
BEGIN:VTIMEZONE
TZID:UTC
BEGIN:STANDARD
TZOFFSETFROM:+0000
TZOFFSETTO:+0000
TZNAME:UTC
DTSTART:20250101T000000
END:STANDARD
END:VTIMEZONE
BEGIN:VEVENT
DTSTART;TZID=UTC:20260330T140000
DTEND;TZID=UTC:20260330T180000
DTSTAMP:20260422T001312
CREATED:20260213T105544Z
LAST-MODIFIED:20260216T101739Z
UID:25327-1774879200-1774893600@oud.tudelftcampus.nl
SUMMARY:TU Delft BEI Business BioDate
DESCRIPTION:  \nKom naar de TU Delft BEI Business BioDate op maandag 30 maart (14:00–18:00) in de TU Delft Aula Foyer. \nDit dynamische ‘speed dating’-evenement brengt wetenschappers van bedrijven in contact met onderzoekers van de TU Delft voor korte\, gerichte één-op-één-gesprekken. De middag begint om 14:30 uur met een korte plenaire introductie\, gevolgd door gestructureerde ontmoetingen van 3-5 minuten waarbij vertegenwoordigers van bedrijven aan vaste tafels zitten en wetenschappers van de TU Delft rouleren. Van 17:00 tot 18:00 uur biedt een informele borrel de gelegenheid om de gesprekken verder uit te diepen. \nTot nu toe hebben zich 22 deelnemers van 18 bedrijven aangemeld\, waaronder: \nRoylinx • Biothane (Veolia) • Hecht Technology • Nature’s Principles • Hologenomix • Biomimicry NL • Haskoning • Danone • dsm-firmenich • Paques Biomaterials • SoundCell • CellForce Solutions • Bionomic • Constellate Proteomics • Corbion • Respyre • ProteoT \nDeelnemers zijn welkom (maar niet verplicht) om klein promotiemateriaal\, zoals flyers\, mee te nemen. Houd er rekening mee dat de ruimte beperkt is tot een halve statafel per bedrijf; grote displays zoals roll-up banners of schermen kunnen niet worden geplaatst. \nWe kijken uit naar een boeiende middag vol nieuwe contacten en samenwerkingsmogelijkheden binnen de bio-engineeringgemeenschap. \nMeld je aan door dit formulier in te vullen. \nLocatie\nAula Conference Centre (Foyer)\nMekelweg 5\n2628 CC Delft
URL:https://oud.tudelftcampus.nl/nl/event/tu-delft-bei-business-biodate/
LOCATION:Aula Conference Centre\, Mekelweg 5\, Delft\, 2628 CC
ATTACH;FMTTYPE=image/png:https://oud.tudelftcampus.nl/wp-content/uploads/2026/02/1413444.png
END:VEVENT
END:VCALENDAR