BEGIN:VCALENDAR
VERSION:2.0
PRODID:-//TU Delft Campus - ECPv6.15.17//NONSGML v1.0//EN
CALSCALE:GREGORIAN
METHOD:PUBLISH
X-WR-CALNAME:TU Delft Campus
X-ORIGINAL-URL:https://oud.tudelftcampus.nl/nl/
X-WR-CALDESC:Evenementen voor TU Delft Campus
REFRESH-INTERVAL;VALUE=DURATION:PT1H
X-Robots-Tag:noindex
X-PUBLISHED-TTL:PT1H
BEGIN:VTIMEZONE
TZID:Europe/Amsterdam
BEGIN:DAYLIGHT
TZOFFSETFROM:+0100
TZOFFSETTO:+0200
TZNAME:CEST
DTSTART:20220327T010000
END:DAYLIGHT
BEGIN:STANDARD
TZOFFSETFROM:+0200
TZOFFSETTO:+0100
TZNAME:CET
DTSTART:20221030T010000
END:STANDARD
BEGIN:DAYLIGHT
TZOFFSETFROM:+0100
TZOFFSETTO:+0200
TZNAME:CEST
DTSTART:20230326T010000
END:DAYLIGHT
BEGIN:STANDARD
TZOFFSETFROM:+0200
TZOFFSETTO:+0100
TZNAME:CET
DTSTART:20231029T010000
END:STANDARD
BEGIN:DAYLIGHT
TZOFFSETFROM:+0100
TZOFFSETTO:+0200
TZNAME:CEST
DTSTART:20240331T010000
END:DAYLIGHT
BEGIN:STANDARD
TZOFFSETFROM:+0200
TZOFFSETTO:+0100
TZNAME:CET
DTSTART:20241027T010000
END:STANDARD
END:VTIMEZONE
BEGIN:VEVENT
DTSTART;TZID=Europe/Amsterdam:20230912T110000
DTEND;TZID=Europe/Amsterdam:20230912T180000
DTSTAMP:20260423T015742
CREATED:20230713T113650Z
LAST-MODIFIED:20230713T113650Z
UID:16962-1694516400-1694541600@oud.tudelftcampus.nl
SUMMARY:TU Delft AgTech Congres
DESCRIPTION:  \nJoin the TU Delft AgTech Congres – The energy transition in agriculture\, on Tuesday\, September 12\, from 11:00 – 18:00. On this day\, you can interact with private\, public and knowledge partners about the needs and challenges for the energy transition in agriculture. \nRegister here for the event.
URL:https://oud.tudelftcampus.nl/nl/event/tu-delft-agtech-congres/
LOCATION:The Green Village\, Van den Broekweg\, Delft\, 2628 CR
ATTACH;FMTTYPE=image/jpeg:https://oud.tudelftcampus.nl/wp-content/uploads/2023/07/Header_uitnodiging_agtech-congres_vierkant-scaled.jpg
END:VEVENT
END:VCALENDAR