BEGIN:VCALENDAR
VERSION:2.0
PRODID:-//TU Delft Campus - ECPv6.15.17//NONSGML v1.0//EN
CALSCALE:GREGORIAN
METHOD:PUBLISH
X-WR-CALNAME:TU Delft Campus
X-ORIGINAL-URL:https://oud.tudelftcampus.nl/nl/
X-WR-CALDESC:Evenementen voor TU Delft Campus
REFRESH-INTERVAL;VALUE=DURATION:PT1H
X-Robots-Tag:noindex
X-PUBLISHED-TTL:PT1H
BEGIN:VTIMEZONE
TZID:Europe/Amsterdam
BEGIN:DAYLIGHT
TZOFFSETFROM:+0100
TZOFFSETTO:+0200
TZNAME:CEST
DTSTART:20220327T010000
END:DAYLIGHT
BEGIN:STANDARD
TZOFFSETFROM:+0200
TZOFFSETTO:+0100
TZNAME:CET
DTSTART:20221030T010000
END:STANDARD
BEGIN:DAYLIGHT
TZOFFSETFROM:+0100
TZOFFSETTO:+0200
TZNAME:CEST
DTSTART:20230326T010000
END:DAYLIGHT
BEGIN:STANDARD
TZOFFSETFROM:+0200
TZOFFSETTO:+0100
TZNAME:CET
DTSTART:20231029T010000
END:STANDARD
BEGIN:DAYLIGHT
TZOFFSETFROM:+0100
TZOFFSETTO:+0200
TZNAME:CEST
DTSTART:20240331T010000
END:DAYLIGHT
BEGIN:STANDARD
TZOFFSETFROM:+0200
TZOFFSETTO:+0100
TZNAME:CET
DTSTART:20241027T010000
END:STANDARD
END:VTIMEZONE
BEGIN:VEVENT
DTSTART;TZID=Europe/Amsterdam:20230705T173000
DTEND;TZID=Europe/Amsterdam:20230705T181500
DTSTAMP:20260423T020001
CREATED:20230629T105802Z
LAST-MODIFIED:20230629T120328Z
UID:16648-1688578200-1688580900@oud.tudelftcampus.nl
SUMMARY:Sportklas: Spartan Workout
DESCRIPTION:  \nSluit je gratis aan bij de sportlessen op de campus van de TU Delft en verbeter je eigen gezondheid en die van je collega’s. Maak kennis met nieuwe mensen en eindig je werkdag met een gezonde work-out. \nDe Spartan Workout is een vorm van bootcamp gericht op het opbouwen van een sterk lichaam. Bootcamp-workouts zijn geïnspireerd op militaire trainingen die zich richten op kracht\, uithoudingsvermogen en teamwork. Bovendien zal deze training je algemene coördinatie verbeteren. \nLocatie \nWe ontmoeten elkaar bij de ingang van NEXT Delft. De training vindt buiten plaats. Adres: Molengraaffsingel 8\, 2629 JD Delft
URL:https://oud.tudelftcampus.nl/nl/event/sport-class-spartan-workout-32/
LOCATION:NEXT Delft\, Molengraaffsingel 8\, Delft\, 2629 JD
ATTACH;FMTTYPE=image/jpeg:https://oud.tudelftcampus.nl/wp-content/uploads/2023/01/gabin-vallet-e2BAo9BwzV8-unsplash-scaled.jpg
END:VEVENT
END:VCALENDAR