BEGIN:VCALENDAR
VERSION:2.0
PRODID:-//TU Delft Campus - ECPv6.15.17//NONSGML v1.0//EN
CALSCALE:GREGORIAN
METHOD:PUBLISH
X-WR-CALNAME:TU Delft Campus
X-ORIGINAL-URL:https://oud.tudelftcampus.nl/nl/
X-WR-CALDESC:Evenementen voor TU Delft Campus
REFRESH-INTERVAL;VALUE=DURATION:PT1H
X-Robots-Tag:noindex
X-PUBLISHED-TTL:PT1H
BEGIN:VTIMEZONE
TZID:Europe/Amsterdam
BEGIN:DAYLIGHT
TZOFFSETFROM:+0100
TZOFFSETTO:+0200
TZNAME:CEST
DTSTART:20220327T010000
END:DAYLIGHT
BEGIN:STANDARD
TZOFFSETFROM:+0200
TZOFFSETTO:+0100
TZNAME:CET
DTSTART:20221030T010000
END:STANDARD
BEGIN:DAYLIGHT
TZOFFSETFROM:+0100
TZOFFSETTO:+0200
TZNAME:CEST
DTSTART:20230326T010000
END:DAYLIGHT
BEGIN:STANDARD
TZOFFSETFROM:+0200
TZOFFSETTO:+0100
TZNAME:CET
DTSTART:20231029T010000
END:STANDARD
BEGIN:DAYLIGHT
TZOFFSETFROM:+0100
TZOFFSETTO:+0200
TZNAME:CEST
DTSTART:20240331T010000
END:DAYLIGHT
BEGIN:STANDARD
TZOFFSETFROM:+0200
TZOFFSETTO:+0100
TZNAME:CET
DTSTART:20241027T010000
END:STANDARD
END:VTIMEZONE
BEGIN:VEVENT
DTSTART;TZID=Europe/Amsterdam:20230704T173000
DTEND;TZID=Europe/Amsterdam:20230704T181500
DTSTAMP:20260423T015820
CREATED:20230629T105811Z
LAST-MODIFIED:20230629T120451Z
UID:16658-1688491800-1688494500@oud.tudelftcampus.nl
SUMMARY:Sportklas: Pilates
DESCRIPTION:Sluit je gratis aan bij de sportlessen op de Campus van de TU Delft en stimuleer de gezondheid van jezelf en je collega’s. Maak kennis met nieuwe mensen en eindig je werkdag met een gezonde work-out. \nPilates is een trainingsmethode voor het hele lichaam\, ontwikkeld in de vorige eeuw door Joseph Pilates. Pilates ontspant en versterkt gelijkmatig het hele lichaam met oefeningen die beginnen vanuit de kern (de diepe buik- en rugspieren die de wervelkolom\, het bekken en de schouders verbinden). \nLocatie \nNEXT Delft\, 2e verdieping Molengraaffsingel 8\, 2629 JD Delft
URL:https://oud.tudelftcampus.nl/nl/event/sport-class-pilates-32/
LOCATION:NEXT Delft\, Molengraaffsingel 8\, Delft\, 2629 JD
ATTACH;FMTTYPE=image/jpeg:https://oud.tudelftcampus.nl/wp-content/uploads/2023/01/bruce-mars-gJtDg6WfMlQ-unsplash-scaled.jpg
END:VEVENT
END:VCALENDAR