BEGIN:VCALENDAR
VERSION:2.0
PRODID:-//TU Delft Campus - ECPv6.15.17//NONSGML v1.0//EN
CALSCALE:GREGORIAN
METHOD:PUBLISH
X-WR-CALNAME:TU Delft Campus
X-ORIGINAL-URL:https://oud.tudelftcampus.nl/nl/
X-WR-CALDESC:Evenementen voor TU Delft Campus
REFRESH-INTERVAL;VALUE=DURATION:PT1H
X-Robots-Tag:noindex
X-PUBLISHED-TTL:PT1H
BEGIN:VTIMEZONE
TZID:Europe/Amsterdam
BEGIN:DAYLIGHT
TZOFFSETFROM:+0100
TZOFFSETTO:+0200
TZNAME:CEST
DTSTART:20230326T010000
END:DAYLIGHT
BEGIN:STANDARD
TZOFFSETFROM:+0200
TZOFFSETTO:+0100
TZNAME:CET
DTSTART:20231029T010000
END:STANDARD
BEGIN:DAYLIGHT
TZOFFSETFROM:+0100
TZOFFSETTO:+0200
TZNAME:CEST
DTSTART:20240331T010000
END:DAYLIGHT
BEGIN:STANDARD
TZOFFSETFROM:+0200
TZOFFSETTO:+0100
TZNAME:CET
DTSTART:20241027T010000
END:STANDARD
BEGIN:DAYLIGHT
TZOFFSETFROM:+0100
TZOFFSETTO:+0200
TZNAME:CEST
DTSTART:20250330T010000
END:DAYLIGHT
BEGIN:STANDARD
TZOFFSETFROM:+0200
TZOFFSETTO:+0100
TZNAME:CET
DTSTART:20251026T010000
END:STANDARD
END:VTIMEZONE
BEGIN:VEVENT
DTSTART;TZID=Europe/Amsterdam:20240229T123000
DTEND;TZID=Europe/Amsterdam:20240229T140000
DTSTAMP:20260422T133713
CREATED:20240215T102002Z
LAST-MODIFIED:20240222T124540Z
UID:20543-1709209800-1709215200@oud.tudelftcampus.nl
SUMMARY:SHErobots Cafés: Drones & Touch
DESCRIPTION:SHErobots Cafés: Drones & Touch\nThe SHErobots Cafés switches gears for the remainder of the series to spotlight female researchers Salua Hamaza (AE) and Yasemin Vardar (ME) from the TU Delft. The subject for this event will be Drones & Touch. \nJoin to learn more about the future of drones and haptics defined by these inspiring researchers working here on campus. \n\n\n\n\n\n\n\n\n\n\n\n\nRegister here! \nSHErobots Cafés will consist of demos\, talks\, and Q&A from 12.45 – 14.00h with free lunch for registered guests in the Main Hall of the TU Delft Library
URL:https://oud.tudelftcampus.nl/nl/event/sherobots-cafes-drones-touch/
LOCATION:TU Delft Library\, Netherlands
ATTACH;FMTTYPE=image/jpeg:https://oud.tudelftcampus.nl/wp-content/uploads/2024/02/SHErobots-Salua-Hamaza-Drone.jpg
END:VEVENT
END:VCALENDAR