BEGIN:VCALENDAR
VERSION:2.0
PRODID:-//TU Delft Campus - ECPv6.15.17//NONSGML v1.0//EN
CALSCALE:GREGORIAN
METHOD:PUBLISH
X-WR-CALNAME:TU Delft Campus
X-ORIGINAL-URL:https://oud.tudelftcampus.nl/nl/
X-WR-CALDESC:Evenementen voor TU Delft Campus
REFRESH-INTERVAL;VALUE=DURATION:PT1H
X-Robots-Tag:noindex
X-PUBLISHED-TTL:PT1H
BEGIN:VTIMEZONE
TZID:Europe/Amsterdam
BEGIN:DAYLIGHT
TZOFFSETFROM:+0100
TZOFFSETTO:+0200
TZNAME:CEST
DTSTART:20220327T010000
END:DAYLIGHT
BEGIN:STANDARD
TZOFFSETFROM:+0200
TZOFFSETTO:+0100
TZNAME:CET
DTSTART:20221030T010000
END:STANDARD
BEGIN:DAYLIGHT
TZOFFSETFROM:+0100
TZOFFSETTO:+0200
TZNAME:CEST
DTSTART:20230326T010000
END:DAYLIGHT
BEGIN:STANDARD
TZOFFSETFROM:+0200
TZOFFSETTO:+0100
TZNAME:CET
DTSTART:20231029T010000
END:STANDARD
BEGIN:DAYLIGHT
TZOFFSETFROM:+0100
TZOFFSETTO:+0200
TZNAME:CEST
DTSTART:20240331T010000
END:DAYLIGHT
BEGIN:STANDARD
TZOFFSETFROM:+0200
TZOFFSETTO:+0100
TZNAME:CET
DTSTART:20241027T010000
END:STANDARD
END:VTIMEZONE
BEGIN:VEVENT
DTSTART;TZID=Europe/Amsterdam:20230905T160000
DTEND;TZID=Europe/Amsterdam:20230905T180000
DTSTAMP:20260423T015853
CREATED:20230728T135245Z
LAST-MODIFIED:20230728T135245Z
UID:17118-1693929600-1693936800@oud.tudelftcampus.nl
SUMMARY:SAM XL 5-year celebration
DESCRIPTION:  \nIn 2018\, SAM XL was founded with ambitious plans and a small\, dream-filled team in an empty hall. \nNow\, after just five years\, this TU Delft fieldlab has blossomed into a thriving manufacturing expertise center. With over 20 dedicated team members and an extensive partner network\, SAM XL has achieved numerous significant milestones. Through close collaboration\, creativity\, perseverance\, and ingenuity\, they are poised to make a major contribution to creating a more sustainable industry. \nAs a member of the TU Delft Campus community \, you are welcome to join the celebration drinks on Tuesday\, September 5th at 16:00. \nMeet up with key players in the manufacturing industry and in the field of aerospace\, dedicated TU Delft researchers\, high tech suppliers\, materials experts\, robotics experts\, SAM XL engineers and many more!\nAn XL ambiance is guaranteed. \nWant to join? Register here! \n  \n 
URL:https://oud.tudelftcampus.nl/nl/event/sam-xl-5-year-celebration/
LOCATION:SAM XL\, Rotterdamseweg 382C\, Delft\, Zuid-Hollands\, 2629 HG\, Netherlands
ATTACH;FMTTYPE=image/png:https://oud.tudelftcampus.nl/wp-content/uploads/2023/07/samxl5jaar.png
END:VEVENT
END:VCALENDAR