BEGIN:VCALENDAR
VERSION:2.0
PRODID:-//TU Delft Campus - ECPv6.15.17//NONSGML v1.0//EN
CALSCALE:GREGORIAN
METHOD:PUBLISH
X-WR-CALNAME:TU Delft Campus
X-ORIGINAL-URL:https://oud.tudelftcampus.nl/nl/
X-WR-CALDESC:Evenementen voor TU Delft Campus
REFRESH-INTERVAL;VALUE=DURATION:PT1H
X-Robots-Tag:noindex
X-PUBLISHED-TTL:PT1H
BEGIN:VTIMEZONE
TZID:Europe/Amsterdam
BEGIN:DAYLIGHT
TZOFFSETFROM:+0100
TZOFFSETTO:+0200
TZNAME:CEST
DTSTART:20230326T010000
END:DAYLIGHT
BEGIN:STANDARD
TZOFFSETFROM:+0200
TZOFFSETTO:+0100
TZNAME:CET
DTSTART:20231029T010000
END:STANDARD
BEGIN:DAYLIGHT
TZOFFSETFROM:+0100
TZOFFSETTO:+0200
TZNAME:CEST
DTSTART:20240331T010000
END:DAYLIGHT
BEGIN:STANDARD
TZOFFSETFROM:+0200
TZOFFSETTO:+0100
TZNAME:CET
DTSTART:20241027T010000
END:STANDARD
BEGIN:DAYLIGHT
TZOFFSETFROM:+0100
TZOFFSETTO:+0200
TZNAME:CEST
DTSTART:20250330T010000
END:DAYLIGHT
BEGIN:STANDARD
TZOFFSETFROM:+0200
TZOFFSETTO:+0100
TZNAME:CET
DTSTART:20251026T010000
END:STANDARD
END:VTIMEZONE
BEGIN:VEVENT
DTSTART;TZID=Europe/Amsterdam:20240328T163000
DTEND;TZID=Europe/Amsterdam:20240328T190000
DTSTAMP:20260422T113616
CREATED:20240305T092353Z
LAST-MODIFIED:20240305T092353Z
UID:20832-1711643400-1711652400@oud.tudelftcampus.nl
SUMMARY:RoboCafé
DESCRIPTION:  \nCome and join the laid-back RoboCafé\, every last Friday of the month at RoboHouse\, where engineering meets relaxation and good vibes. Wrap up your workweek\, bring your colleagues and become part of the robotics community at TU Delft Campus. \nListen and talk about the latest robotics trends and innovations. Connect with fellow engineers\, tech enthusiasts\, and curious minds in a relaxed atmosphere. \nReservation is not necessary\, just walk in. \nProgramme\nThe programme for each RoboCafé will be announced on the RoboCafé event page. Or\, stay up to date by joining their community WhatsApp group. \nShare\nThis is your opportunity to share your story\, presentation and learnings something\, so please contact the Community Manager of RoboHouse Roksolana Hoogstede – Malhanova\, via R.Hoogstede-Malhanova@tudelft.nl\, if you have ideas! \nLocation\nRoboHouse in ’t Keldertje\nJulianalaan 67\, Delft
URL:https://oud.tudelftcampus.nl/nl/event/robocafe/
LOCATION:RoboHouse\, Julianalaan 67\, Delft\, 2628 BC
ATTACH;FMTTYPE=image/jpeg:https://oud.tudelftcampus.nl/wp-content/uploads/2024/03/david-leveque-GpNOhig3LSU-unsplash-scaled.jpg
END:VEVENT
END:VCALENDAR