BEGIN:VCALENDAR
VERSION:2.0
PRODID:-//TU Delft Campus - ECPv6.15.17//NONSGML v1.0//EN
CALSCALE:GREGORIAN
METHOD:PUBLISH
X-WR-CALNAME:TU Delft Campus
X-ORIGINAL-URL:https://oud.tudelftcampus.nl/nl/
X-WR-CALDESC:Evenementen voor TU Delft Campus
REFRESH-INTERVAL;VALUE=DURATION:PT1H
X-Robots-Tag:noindex
X-PUBLISHED-TTL:PT1H
BEGIN:VTIMEZONE
TZID:Europe/Amsterdam
BEGIN:DAYLIGHT
TZOFFSETFROM:+0100
TZOFFSETTO:+0200
TZNAME:CEST
DTSTART:20220327T010000
END:DAYLIGHT
BEGIN:STANDARD
TZOFFSETFROM:+0200
TZOFFSETTO:+0100
TZNAME:CET
DTSTART:20221030T010000
END:STANDARD
BEGIN:DAYLIGHT
TZOFFSETFROM:+0100
TZOFFSETTO:+0200
TZNAME:CEST
DTSTART:20230326T010000
END:DAYLIGHT
BEGIN:STANDARD
TZOFFSETFROM:+0200
TZOFFSETTO:+0100
TZNAME:CET
DTSTART:20231029T010000
END:STANDARD
BEGIN:DAYLIGHT
TZOFFSETFROM:+0100
TZOFFSETTO:+0200
TZNAME:CEST
DTSTART:20240331T010000
END:DAYLIGHT
BEGIN:STANDARD
TZOFFSETFROM:+0200
TZOFFSETTO:+0100
TZNAME:CET
DTSTART:20241027T010000
END:STANDARD
END:VTIMEZONE
BEGIN:VEVENT
DTSTART;TZID=Europe/Amsterdam:20230612T090000
DTEND;TZID=Europe/Amsterdam:20230616T180000
DTSTAMP:20260423T033704
CREATED:20230606T134156Z
LAST-MODIFIED:20230606T134502Z
UID:16467-1686560400-1686938400@oud.tudelftcampus.nl
SUMMARY:Quantum Meets '23
DESCRIPTION:Vijf dagen wereldwijde quantum community meet-ups in Nederland \nQuantum Delta NL heeft onlangs de inaugurele editie aangekondigd van Quantum Meets\, een vijfdaagse reeks quantum-evenementen die van 12 tot 16 juni door heel Nederland plaatsvinden. Dit initiatief heeft tot doel de samenwerking te bevorderen en kwalitatief leren en netwerken toegankelijker te maken om duurzame verbindingen tot stand te brengen binnen de wereldwijde quantum gemeenschap.  \nIn tegenstelling tot gangbare conferenties\, zal Quantum Meets ’23 een vijfdaagse verzameling evenementen zijn van individuele organisatoren. Met een breed scala aan evenementen\, lezingen\, panels en workshops biedt Quantum Meets een dynamisch en boeiend programma dat een breed spectrum aan onderwerpen bestrijkt\, van toepassingen en implicaties tot het nieuwste onderzoek en ontwikkelingen en het laten groeien van een quantumbedrijf of -ecosysteem.  \nOmdat het de bedoeling is om kwalitatief hoogwaardig netwerken en leren voor iedereen toegankelijk te maken\, zijn bijna alle evenementen van Quantum Meets ’23 gratis en is elke partij actief in of gerelateerd aan quantumtechnologie welkom om een ​​evenement te organiseren als onderdeel van het overkoepelende programma. \nLees meer over het meerdaagse programma en registreer voor events hier
URL:https://oud.tudelftcampus.nl/nl/event/quantum-meets-23/
ATTACH;FMTTYPE=image/jpeg:https://oud.tudelftcampus.nl/wp-content/uploads/2023/06/quantum_meets.jpg
END:VEVENT
END:VCALENDAR