BEGIN:VCALENDAR
VERSION:2.0
PRODID:-//TU Delft Campus - ECPv6.15.17//NONSGML v1.0//EN
CALSCALE:GREGORIAN
METHOD:PUBLISH
X-WR-CALNAME:TU Delft Campus
X-ORIGINAL-URL:https://oud.tudelftcampus.nl/nl/
X-WR-CALDESC:Evenementen voor TU Delft Campus
REFRESH-INTERVAL;VALUE=DURATION:PT1H
X-Robots-Tag:noindex
X-PUBLISHED-TTL:PT1H
BEGIN:VTIMEZONE
TZID:Europe/Amsterdam
BEGIN:DAYLIGHT
TZOFFSETFROM:+0100
TZOFFSETTO:+0200
TZNAME:CEST
DTSTART:20230326T010000
END:DAYLIGHT
BEGIN:STANDARD
TZOFFSETFROM:+0200
TZOFFSETTO:+0100
TZNAME:CET
DTSTART:20231029T010000
END:STANDARD
BEGIN:DAYLIGHT
TZOFFSETFROM:+0100
TZOFFSETTO:+0200
TZNAME:CEST
DTSTART:20240331T010000
END:DAYLIGHT
BEGIN:STANDARD
TZOFFSETFROM:+0200
TZOFFSETTO:+0100
TZNAME:CET
DTSTART:20241027T010000
END:STANDARD
BEGIN:DAYLIGHT
TZOFFSETFROM:+0100
TZOFFSETTO:+0200
TZNAME:CEST
DTSTART:20250330T010000
END:DAYLIGHT
BEGIN:STANDARD
TZOFFSETFROM:+0200
TZOFFSETTO:+0100
TZNAME:CET
DTSTART:20251026T010000
END:STANDARD
END:VTIMEZONE
BEGIN:VEVENT
DTSTART;TZID=Europe/Amsterdam:20240411T140000
DTEND;TZID=Europe/Amsterdam:20240411T170000
DTSTAMP:20260422T115644
CREATED:20240226T193607Z
LAST-MODIFIED:20240328T102923Z
UID:20703-1712844000-1712854800@oud.tudelftcampus.nl
SUMMARY:Demodag Haven-Maritiem
DESCRIPTION:Ben jij actief in de haven-maritieme sector en ben je benieuwd wat robotica jouw bedrijf kan bieden? Kom naar de Demodag Haven-Maritiem bij RoboHouse op de TU Delft Campus. Start jouw reis in de robotica en kom op 12 april 2024 naar de Demodag.\nProgramma:\n14:30 uur Inloop\n15:00 uur Opening door Dominique Nieuwpoort van Digitalz en introductie Robohouse\n15:10 uur Ondernemer aan het woord: Gerbet Smits van 10XL\n15:30 uur Live-demo ronde 1*\n15:50 uur Break\n16:00 uur Live-demo ronde 2*\n16:20 uur Live-demo ronde 3*\n16:40 uur Plenaire afronding\n16:50 uur Netwerkborrel en innovatiemarkt met Qafka Robotics\, TU Delft Cognitieve Robotics\, Robohouse.\n17:30 uur Einde evenement \nDeze bijeenkomst wordt georganiseerd door DigitalZH\, Robohouse en iTanks. \nVoor deze Demodag wordt de voorkeur gegeven aan deelnemers van bedrijven die op zoek zijn naar (robotiserings)oplossingen voor hun vraagstukken. \nVoor dienstverleners wordt een wachtlijst gehanteerd.\n \n*Live demo’s door:\n– Inspectie en rompreiniging robot demo door Alex Noordstrand van Fleet Cleaner\n– Onderhoud en reparatie robot demo door Auke Nachenius van RoboHouse\n– Assemblage digitale instructie demo door Jeroen van Oosterhout van TNO \nAanmelden\nMeld je aan voor de demodag. \nVragen? Neem contact op met onze Programma manager Mark Bruijnen via 06 – 110 083 23 of m.c.bruijnen@tudelft.nl \n  \n 
URL:https://oud.tudelftcampus.nl/nl/event/port-maritime-demo-day/
LOCATION:RoboHouse\, Julianalaan 67\, Delft\, 2628 BC
ATTACH;FMTTYPE=image/jpeg:https://oud.tudelftcampus.nl/wp-content/uploads/2024/02/230711-Senseglove-Event-186-1280x0-c-default.jpg
END:VEVENT
END:VCALENDAR