BEGIN:VCALENDAR
VERSION:2.0
PRODID:-//TU Delft Campus - ECPv6.15.17//NONSGML v1.0//EN
CALSCALE:GREGORIAN
METHOD:PUBLISH
X-WR-CALNAME:TU Delft Campus
X-ORIGINAL-URL:https://oud.tudelftcampus.nl/nl/
X-WR-CALDESC:Evenementen voor TU Delft Campus
REFRESH-INTERVAL;VALUE=DURATION:PT1H
X-Robots-Tag:noindex
X-PUBLISHED-TTL:PT1H
BEGIN:VTIMEZONE
TZID:Europe/Amsterdam
BEGIN:DAYLIGHT
TZOFFSETFROM:+0100
TZOFFSETTO:+0200
TZNAME:CEST
DTSTART:20230326T010000
END:DAYLIGHT
BEGIN:STANDARD
TZOFFSETFROM:+0200
TZOFFSETTO:+0100
TZNAME:CET
DTSTART:20231029T010000
END:STANDARD
BEGIN:DAYLIGHT
TZOFFSETFROM:+0100
TZOFFSETTO:+0200
TZNAME:CEST
DTSTART:20240331T010000
END:DAYLIGHT
BEGIN:STANDARD
TZOFFSETFROM:+0200
TZOFFSETTO:+0100
TZNAME:CET
DTSTART:20241027T010000
END:STANDARD
BEGIN:DAYLIGHT
TZOFFSETFROM:+0100
TZOFFSETTO:+0200
TZNAME:CEST
DTSTART:20250330T010000
END:DAYLIGHT
BEGIN:STANDARD
TZOFFSETFROM:+0200
TZOFFSETTO:+0100
TZNAME:CET
DTSTART:20251026T010000
END:STANDARD
END:VTIMEZONE
BEGIN:VEVENT
DTSTART;TZID=Europe/Amsterdam:20241112T120000
DTEND;TZID=Europe/Amsterdam:20241112T133000
DTSTAMP:20260422T040659
CREATED:20241011T082547Z
LAST-MODIFIED:20241011T082547Z
UID:22990-1731412800-1731418200@oud.tudelftcampus.nl
SUMMARY:Networking lunch for all employees of start- and scale-ups
DESCRIPTION:  \nAre you part of a start- or scale-up and looking to connect with like-minded professionals facing similar challenges? Whether you’re a founder or part of a dynamic team\, we invite you to join us for an inspiring lunch to share experiences\, discuss common hurdles\, and spark new ideas together. \nThis event is designed to bring together employees and founders from innovative early to later-stage start- and scale-ups across Delft and its surroundings. By facilitating meaningful discussions\, we aim to create an environment where you can not only exchange insights but also find practical solutions to help your business grow. We will also welcome experts in the field to help you tackle your most challenging obstacles\, such as managing rapid hiring\, optimizing marketing campaigns\, or scaling technical infrastructure. Based on your input shared in the registration form\, we will create round tables for you to discuss relevant topics tailored to your needs. \nAfter the success of our previous lunches with marketing managers from scale-ups\, we’re excited to elevate this format to a new level—opening it up to a wider audience. Let’s take this opportunity to expand the conversation and collaborate across different roles and industries. \nEvent Details: \n\nWho: Employees and founders from startups and scale-ups\nWhen: 12th of November 12.00-13.30\nWhere: Main Hall YES!Delft\nWhat to expect: Informal discussions\, shared experiences\, and a chance to brainstorm with peers\n\nTogether\, we can navigate the challenges of scaling businesses and inspire one another to push forward. \nDon’t miss out—sign up now and be part of this exciting community-building lunch! \nThis event is made possible by Ondernemersfonds Delft.
URL:https://oud.tudelftcampus.nl/nl/event/networking-lunch-for-all-employees-of-start-and-scale-ups/
LOCATION:YES!Delft\, Molengraaffsingel 12\, Delft\, 2629 JD
ATTACH;FMTTYPE=image/jpeg:https://oud.tudelftcampus.nl/wp-content/uploads/2024/10/brooke-cagle-uHVRvDr7pg-unsplash-1-scaled.jpg
END:VEVENT
END:VCALENDAR