BEGIN:VCALENDAR
VERSION:2.0
PRODID:-//TU Delft Campus - ECPv6.15.17//NONSGML v1.0//EN
CALSCALE:GREGORIAN
METHOD:PUBLISH
X-WR-CALNAME:TU Delft Campus
X-ORIGINAL-URL:https://oud.tudelftcampus.nl/nl/
X-WR-CALDESC:Evenementen voor TU Delft Campus
REFRESH-INTERVAL;VALUE=DURATION:PT1H
X-Robots-Tag:noindex
X-PUBLISHED-TTL:PT1H
BEGIN:VTIMEZONE
TZID:Europe/Amsterdam
BEGIN:DAYLIGHT
TZOFFSETFROM:+0100
TZOFFSETTO:+0200
TZNAME:CEST
DTSTART:20240331T010000
END:DAYLIGHT
BEGIN:STANDARD
TZOFFSETFROM:+0200
TZOFFSETTO:+0100
TZNAME:CET
DTSTART:20241027T010000
END:STANDARD
BEGIN:DAYLIGHT
TZOFFSETFROM:+0100
TZOFFSETTO:+0200
TZNAME:CEST
DTSTART:20250330T010000
END:DAYLIGHT
BEGIN:STANDARD
TZOFFSETFROM:+0200
TZOFFSETTO:+0100
TZNAME:CET
DTSTART:20251026T010000
END:STANDARD
BEGIN:DAYLIGHT
TZOFFSETFROM:+0100
TZOFFSETTO:+0200
TZNAME:CEST
DTSTART:20260329T010000
END:DAYLIGHT
BEGIN:STANDARD
TZOFFSETFROM:+0200
TZOFFSETTO:+0100
TZNAME:CET
DTSTART:20261025T010000
END:STANDARD
END:VTIMEZONE
BEGIN:VEVENT
DTSTART;TZID=Europe/Amsterdam:20250310T093000
DTEND;TZID=Europe/Amsterdam:20250310T140000
DTSTAMP:20260422T040127
CREATED:20250204T081850Z
LAST-MODIFIED:20250204T084348Z
UID:23818-1741599000-1741615200@oud.tudelftcampus.nl
SUMMARY:MIT Event
DESCRIPTION:  \nEen innovatief idee is vaak zo bedacht. Maar van een idee een technologisch product of dienst maken vraagt meer. En dat vervolgens naar de markt brengen\, is niet voor iedereen weggelegd. Daarvoor zijn kennis\, middelen en een netwerkt nodig. Hoe pakken ondernemers dit aan\, wat kan de provincie Zuid-Holland voor het innovatief MKB betekenen en in welke projecten is de afgelopen jaren geïnvesteerd? Wat kunnen ervaringen van andere ondernemers en kennisinstellingen hieraan bijdragen? Antwoorden hierop en meer vind je tijdens de bijeenkomst MIT: hoe maak je meer impact met innovatie! Ben jij erbij? \nWil je erbij zijn? Meld je dan vóór 6 maart aan via deze deze link. \nLocatie\nProvinciehuis Zuid-Holland\nZuid Hollandplein 1\, Den Haag
URL:https://oud.tudelftcampus.nl/nl/event/mit-event/
LOCATION:Provinciehuis Zuid-Holland\, Zuid Hollandplein 1\, Den Haag\, South Holland\, 2596 AW\, Netherlands
ATTACH;FMTTYPE=image/jpeg:https://oud.tudelftcampus.nl/wp-content/uploads/2025/02/mit_event.jpg
END:VEVENT
END:VCALENDAR