BEGIN:VCALENDAR
VERSION:2.0
PRODID:-//TU Delft Campus - ECPv6.15.17//NONSGML v1.0//EN
CALSCALE:GREGORIAN
METHOD:PUBLISH
X-WR-CALNAME:TU Delft Campus
X-ORIGINAL-URL:https://oud.tudelftcampus.nl/nl/
X-WR-CALDESC:Evenementen voor TU Delft Campus
REFRESH-INTERVAL;VALUE=DURATION:PT1H
X-Robots-Tag:noindex
X-PUBLISHED-TTL:PT1H
BEGIN:VTIMEZONE
TZID:Europe/Amsterdam
BEGIN:DAYLIGHT
TZOFFSETFROM:+0100
TZOFFSETTO:+0200
TZNAME:CEST
DTSTART:20240331T010000
END:DAYLIGHT
BEGIN:STANDARD
TZOFFSETFROM:+0200
TZOFFSETTO:+0100
TZNAME:CET
DTSTART:20241027T010000
END:STANDARD
BEGIN:DAYLIGHT
TZOFFSETFROM:+0100
TZOFFSETTO:+0200
TZNAME:CEST
DTSTART:20250330T010000
END:DAYLIGHT
BEGIN:STANDARD
TZOFFSETFROM:+0200
TZOFFSETTO:+0100
TZNAME:CET
DTSTART:20251026T010000
END:STANDARD
BEGIN:DAYLIGHT
TZOFFSETFROM:+0100
TZOFFSETTO:+0200
TZNAME:CEST
DTSTART:20260329T010000
END:DAYLIGHT
BEGIN:STANDARD
TZOFFSETFROM:+0200
TZOFFSETTO:+0100
TZNAME:CET
DTSTART:20261025T010000
END:STANDARD
END:VTIMEZONE
BEGIN:VEVENT
DTSTART;TZID=Europe/Amsterdam:20251219T170000
DTEND;TZID=Europe/Amsterdam:20251219T210000
DTSTAMP:20260422T000513
CREATED:20250909T143224Z
LAST-MODIFIED:20250909T143224Z
UID:24499-1766163600-1766178000@oud.tudelftcampus.nl
SUMMARY:Kerstbingo dineravond met de Microfoonman!
DESCRIPTION:  \nZet je schrap voor een avond vol kersthits\, glitter\, gezelligheid\, keihard meezingen en natuurlijk BINGO! Op vrijdag 19 december. Het diner met deelname kost € 59 per persoon (exclusief drank). De borrel staat vanaf 17.00 uur klaar\, het diner met de Bingo begint om 19.00 uur. \nRegistreer je hier: https://firmavanbuiten.nl/ \nLocatie\nThijsseweg 1\n2629JA Delft
URL:https://oud.tudelftcampus.nl/nl/event/kerstbingo-met-de-microfoonman/
LOCATION:Firma van Buiten\, Thijsseweg 1\, Delft\, 2629 JA
ATTACH;FMTTYPE=image/png:https://oud.tudelftcampus.nl/wp-content/uploads/2025/09/ICFBDaMyIK3r2Ph73OMpgeoTcGeyxiDxpvtRWQW1.logo_csquarred.png
END:VEVENT
END:VCALENDAR