BEGIN:VCALENDAR
VERSION:2.0
PRODID:-//TU Delft Campus - ECPv6.15.17//NONSGML v1.0//EN
CALSCALE:GREGORIAN
METHOD:PUBLISH
X-WR-CALNAME:TU Delft Campus
X-ORIGINAL-URL:https://oud.tudelftcampus.nl/nl/
X-WR-CALDESC:Evenementen voor TU Delft Campus
REFRESH-INTERVAL;VALUE=DURATION:PT1H
X-Robots-Tag:noindex
X-PUBLISHED-TTL:PT1H
BEGIN:VTIMEZONE
TZID:Europe/Amsterdam
BEGIN:DAYLIGHT
TZOFFSETFROM:+0100
TZOFFSETTO:+0200
TZNAME:CEST
DTSTART:20230326T010000
END:DAYLIGHT
BEGIN:STANDARD
TZOFFSETFROM:+0200
TZOFFSETTO:+0100
TZNAME:CET
DTSTART:20231029T010000
END:STANDARD
BEGIN:DAYLIGHT
TZOFFSETFROM:+0100
TZOFFSETTO:+0200
TZNAME:CEST
DTSTART:20240331T010000
END:DAYLIGHT
BEGIN:STANDARD
TZOFFSETFROM:+0200
TZOFFSETTO:+0100
TZNAME:CET
DTSTART:20241027T010000
END:STANDARD
BEGIN:DAYLIGHT
TZOFFSETFROM:+0100
TZOFFSETTO:+0200
TZNAME:CEST
DTSTART:20250330T010000
END:DAYLIGHT
BEGIN:STANDARD
TZOFFSETFROM:+0200
TZOFFSETTO:+0100
TZNAME:CET
DTSTART:20251026T010000
END:STANDARD
END:VTIMEZONE
BEGIN:VEVENT
DTSTART;TZID=Europe/Amsterdam:20241002T143000
DTEND;TZID=Europe/Amsterdam:20241002T180000
DTSTAMP:20260422T095750
CREATED:20240906T114333Z
LAST-MODIFIED:20240906T114333Z
UID:22786-1727879400-1727892000@oud.tudelftcampus.nl
SUMMARY:Industry 4.0: factory of the future
DESCRIPTION:  \nAn aging workforce\, a shortage of technical staff\, competition from low-wage countries or a constantly changing customer demand. Do you recognize one or more of these challenges in your operations? \nDigital technologies\, such as smart software\, robots and sensoring\, can make designing\, manufacturing and distributing products more efficient. For example\, using digital production simulations to achieve shorter time-to-market\, or harnessing the increasing amount of data to reduce machine downtime and optimize production processes. Learn from practical examples from our speakers and get inspired by the demos during ‘Industrie 4.0: factory of the future’! \nAs an SME entrepreneur in the manufacturing industry\, you don’t want to miss this event. Whether you have already taken steps within the digitization of your company or are still at the beginning of the journey; this event inspires\, offers new insights and gives you the opportunity to get in touch with experts and like-minded entrepreneurs. Together we work on industry 4.0. \nProgram\n14:30 Walk-in\n15:30 Introduction by Digitalzh and Rabobank\n15:20 Keynote Fokker Technologies\n15:40 SME Case Studies: TheNewMakers\, GOMA\, Parts on Demand.\n16:50 Demo Tour\n17:30 Closing and networking drinks\n18:00 End of event \nLocation\nSAM XL\nRotterdamseweg 382c\, Delft \nThis event is organised bij Digitalzh. Register for the event here: Industrie 4.0: fabriek van de toekomst – Digitalzh
URL:https://oud.tudelftcampus.nl/nl/event/industry-4-0-factory-of-the-future/
LOCATION:SAM XL\, Rotterdamseweg 382C\, Delft\, Zuid-Hollands\, 2629 HG\, Netherlands
ATTACH;FMTTYPE=image/jpeg:https://oud.tudelftcampus.nl/wp-content/uploads/2024/09/Screenshot_6-9-2024_134258_digitalzh.nl_.jpeg
END:VEVENT
END:VCALENDAR