BEGIN:VCALENDAR
VERSION:2.0
PRODID:-//TU Delft Campus - ECPv6.15.17//NONSGML v1.0//EN
CALSCALE:GREGORIAN
METHOD:PUBLISH
X-WR-CALNAME:TU Delft Campus
X-ORIGINAL-URL:https://oud.tudelftcampus.nl/nl/
X-WR-CALDESC:Evenementen voor TU Delft Campus
REFRESH-INTERVAL;VALUE=DURATION:PT1H
X-Robots-Tag:noindex
X-PUBLISHED-TTL:PT1H
BEGIN:VTIMEZONE
TZID:Europe/Amsterdam
BEGIN:DAYLIGHT
TZOFFSETFROM:+0100
TZOFFSETTO:+0200
TZNAME:CEST
DTSTART:20240331T010000
END:DAYLIGHT
BEGIN:STANDARD
TZOFFSETFROM:+0200
TZOFFSETTO:+0100
TZNAME:CET
DTSTART:20241027T010000
END:STANDARD
BEGIN:DAYLIGHT
TZOFFSETFROM:+0100
TZOFFSETTO:+0200
TZNAME:CEST
DTSTART:20250330T010000
END:DAYLIGHT
BEGIN:STANDARD
TZOFFSETFROM:+0200
TZOFFSETTO:+0100
TZNAME:CET
DTSTART:20251026T010000
END:STANDARD
BEGIN:DAYLIGHT
TZOFFSETFROM:+0100
TZOFFSETTO:+0200
TZNAME:CEST
DTSTART:20260329T010000
END:DAYLIGHT
BEGIN:STANDARD
TZOFFSETFROM:+0200
TZOFFSETTO:+0100
TZNAME:CET
DTSTART:20261025T010000
END:STANDARD
END:VTIMEZONE
BEGIN:VEVENT
DTSTART;TZID=Europe/Amsterdam:20251127T083000
DTEND;TZID=Europe/Amsterdam:20251127T103000
DTSTAMP:20260422T020407
CREATED:20250903T131736Z
LAST-MODIFIED:20251111T133134Z
UID:24458-1764232200-1764239400@oud.tudelftcampus.nl
SUMMARY:Founders Breakfast
DESCRIPTION:  \nWe zijn verheugd om een nieuwe editie van ons speciale (gratis) ontbijtevenement voor oprichters aan te kondigen. Een geweldige kans om gelijkgestemde ondernemers te ontmoeten\, te netwerken en ervaringen uit te wisselen. Het doel van het evenement is om een gevoel van gemeenschap onder oprichters te bevorderen\, kennis te delen en van elkaars ervaringen te leren. \nWe beginnen het evenement met een korte ijsbreker\, gevolgd door inzichten en founders lessen van een ervaren oprichter: Maxim Segeren van Tree Composites. Daarna nodigen we je uit om deel te nemen aan de discussie en je eigen uitdagingen en successen met de groep te delen. Doe mee aan deze inspirerende ochtend op 27 november. \nLocatie\nFirma van Buiten\nThijsseweg 1\, Delft \nDit evenement wordt mogelijk gemaakt door het Innovatiedistrict Delft en wordt georganiseerd in samenwerking met de gemeente Delft\, TU Delft\, Bedrijvenkring Schieoevers\, Metropoolregio Rotterdam–Den Haag en de provincie Zuid-Holland.
URL:https://oud.tudelftcampus.nl/nl/event/founders-breakfast-2/
LOCATION:Firma van Buiten\, Thijsseweg 1\, Delft\, 2629 JA
ATTACH;FMTTYPE=image/jpeg:https://oud.tudelftcampus.nl/wp-content/uploads/2025/09/DSF2207_lowres_Willem_de_Kam.jpg
END:VEVENT
END:VCALENDAR