BEGIN:VCALENDAR
VERSION:2.0
PRODID:-//TU Delft Campus - ECPv6.15.17//NONSGML v1.0//EN
CALSCALE:GREGORIAN
METHOD:PUBLISH
X-WR-CALNAME:TU Delft Campus
X-ORIGINAL-URL:https://oud.tudelftcampus.nl/nl/
X-WR-CALDESC:Evenementen voor TU Delft Campus
REFRESH-INTERVAL;VALUE=DURATION:PT1H
X-Robots-Tag:noindex
X-PUBLISHED-TTL:PT1H
BEGIN:VTIMEZONE
TZID:UTC
BEGIN:STANDARD
TZOFFSETFROM:+0000
TZOFFSETTO:+0000
TZNAME:UTC
DTSTART:20250101T000000
END:STANDARD
END:VTIMEZONE
BEGIN:VEVENT
DTSTART;TZID=UTC:20260319T173000
DTEND;TZID=UTC:20260319T210000
DTSTAMP:20260422T000514
CREATED:20260211T090429Z
LAST-MODIFIED:20260211T090429Z
UID:25291-1773941400-1773954000@oud.tudelftcampus.nl
SUMMARY:Firma van buiten diner
DESCRIPTION:  \nVier de lente bij Firma van Buiten op 19 maart.\nKom genieten van een 5-gangen diner aan lange tafels op ons sfeervolle marktplein. Creatieve smaken\, frisse glazen en goed gezelschap wachten op je! \n🕠 Vanaf 17:30 uur inloop\n🍽️ 18:00 uur start van het diner\n🌷 5 gangen diner vol lentegevoel\n🍷 Laat je verrassen door het wijnarrangement van Beatriz \nZeker van je stoel? Reserveer snel via www.firmavanbuiten.nl \nLocatie\nFirma van Buiten\nThijsseweg 1\n2629JA Delft
URL:https://oud.tudelftcampus.nl/nl/event/firma-van-buiten-diner/
LOCATION:Firma van Buiten\, Thijsseweg 1\, Delft\, 2629 JA
ATTACH;FMTTYPE=image/png:https://oud.tudelftcampus.nl/wp-content/uploads/2026/02/Schermafbeelding-2026-02-11-095845.png
END:VEVENT
END:VCALENDAR