BEGIN:VCALENDAR
VERSION:2.0
PRODID:-//TU Delft Campus - ECPv6.15.17//NONSGML v1.0//EN
CALSCALE:GREGORIAN
METHOD:PUBLISH
X-WR-CALNAME:TU Delft Campus
X-ORIGINAL-URL:https://oud.tudelftcampus.nl/nl/
X-WR-CALDESC:Evenementen voor TU Delft Campus
REFRESH-INTERVAL;VALUE=DURATION:PT1H
X-Robots-Tag:noindex
X-PUBLISHED-TTL:PT1H
BEGIN:VTIMEZONE
TZID:Europe/Amsterdam
BEGIN:DAYLIGHT
TZOFFSETFROM:+0100
TZOFFSETTO:+0200
TZNAME:CEST
DTSTART:20230326T010000
END:DAYLIGHT
BEGIN:STANDARD
TZOFFSETFROM:+0200
TZOFFSETTO:+0100
TZNAME:CET
DTSTART:20231029T010000
END:STANDARD
BEGIN:DAYLIGHT
TZOFFSETFROM:+0100
TZOFFSETTO:+0200
TZNAME:CEST
DTSTART:20240331T010000
END:DAYLIGHT
BEGIN:STANDARD
TZOFFSETFROM:+0200
TZOFFSETTO:+0100
TZNAME:CET
DTSTART:20241027T010000
END:STANDARD
BEGIN:DAYLIGHT
TZOFFSETFROM:+0100
TZOFFSETTO:+0200
TZNAME:CEST
DTSTART:20250330T010000
END:DAYLIGHT
BEGIN:STANDARD
TZOFFSETFROM:+0200
TZOFFSETTO:+0100
TZNAME:CET
DTSTART:20251026T010000
END:STANDARD
END:VTIMEZONE
BEGIN:VEVENT
DTSTART;TZID=Europe/Amsterdam:20240307T140000
DTEND;TZID=Europe/Amsterdam:20240307T173000
DTSTAMP:20260422T135235
CREATED:20240226T210625Z
LAST-MODIFIED:20240226T212215Z
UID:20711-1709820000-1709832600@oud.tudelftcampus.nl
SUMMARY:Financing Masterclass by Energy Innovation NL
DESCRIPTION:Inzicht in financieringsmogelijkheden\nNa een paar succesvolle edities keert de Financing Masterclass van the Energy Innovation NL terug\, op donderdag 7 maart bij Buccaneer Delft. Dit evenement is afgestemd op startups\, scale-ups en innovatieve ondernemers in de energietransitie\, die hun inzicht in het financieringslandschap op dit gebied willen verdiepen. De focus van deze Masterclass ligt op aandelenfinanciering. \nOp het programma staan sprekers uit de wereld van subsidieverstrekkers\, regionale ontwikkelingsorganisaties\, crowdfunding\, business angels\, venture capital en banken. Zij geven een realistisch beeld van de financieringsmogelijkheden en welke innovaties volgens hen kansrijk zijn om in te investeren. \n\nRegistreer hier!\n\n 
URL:https://oud.tudelftcampus.nl/nl/event/financing-masterclass-by-energy-innovation-nl/
LOCATION:Buccaneer Delft\, Paardenmarkt 1\, Delft\, 2611 PA
ATTACH;FMTTYPE=image/jpeg:https://oud.tudelftcampus.nl/wp-content/uploads/2024/02/csm_Sittingoncoin_Header_15030de66d.jpg
END:VEVENT
END:VCALENDAR