BEGIN:VCALENDAR
VERSION:2.0
PRODID:-//TU Delft Campus - ECPv6.15.17//NONSGML v1.0//EN
CALSCALE:GREGORIAN
METHOD:PUBLISH
X-WR-CALNAME:TU Delft Campus
X-ORIGINAL-URL:https://oud.tudelftcampus.nl/nl/
X-WR-CALDESC:Evenementen voor TU Delft Campus
REFRESH-INTERVAL;VALUE=DURATION:PT1H
X-Robots-Tag:noindex
X-PUBLISHED-TTL:PT1H
BEGIN:VTIMEZONE
TZID:Europe/Amsterdam
BEGIN:DAYLIGHT
TZOFFSETFROM:+0100
TZOFFSETTO:+0200
TZNAME:CEST
DTSTART:20240331T010000
END:DAYLIGHT
BEGIN:STANDARD
TZOFFSETFROM:+0200
TZOFFSETTO:+0100
TZNAME:CET
DTSTART:20241027T010000
END:STANDARD
BEGIN:DAYLIGHT
TZOFFSETFROM:+0100
TZOFFSETTO:+0200
TZNAME:CEST
DTSTART:20250330T010000
END:DAYLIGHT
BEGIN:STANDARD
TZOFFSETFROM:+0200
TZOFFSETTO:+0100
TZNAME:CET
DTSTART:20251026T010000
END:STANDARD
BEGIN:DAYLIGHT
TZOFFSETFROM:+0100
TZOFFSETTO:+0200
TZNAME:CEST
DTSTART:20260329T010000
END:DAYLIGHT
BEGIN:STANDARD
TZOFFSETFROM:+0200
TZOFFSETTO:+0100
TZNAME:CET
DTSTART:20261025T010000
END:STANDARD
END:VTIMEZONE
BEGIN:VEVENT
DTSTART;TZID=Europe/Amsterdam:20250108T170000
DTEND;TZID=Europe/Amsterdam:20250108T200000
DTSTAMP:20260422T040629
CREATED:20241211T111907Z
LAST-MODIFIED:20241211T112102Z
UID:23384-1736355600-1736366400@oud.tudelftcampus.nl
SUMMARY:Entrepreneurs New Year's drinks with BKS neighbors
DESCRIPTION:  \nOndernemersfonds Delft usher in 2025 with you\, together with the neighbors from BKS cause a good neighbor is as valuable as a distant friend. You are welcome in YES!Delfts’ bustling entrepreneurial environment\, entrepreneurs of innovative manufacturing\, scale-ups\, start-ups and knowledge-intensive companies will meet in this casual atmosphere and get to know each other better. Moreover\, there will be several entrepreneurs part of the YES!Delft community who will give a glimps behind the scenes. \nBesides sending each other best wishes\, there will be drinks and enough food so you don’t have to go home with an empty stomach. For every participant in this meeting the Ondernemersfonds has a New Year’s gift that is fun or valuable or useful – or perhaps has a little bit of everything. \nCome by bike and have a drink with us\, but if you want to come by car the organisation will provide an exit card for the parking lot P1. \nSign up through the button on Chainels or via a simple email to secretariaat@campusdistrict.nl. \nLocation\nYES!Delft\nMolengraaffsingel 12\, Delft \n 
URL:https://oud.tudelftcampus.nl/nl/event/entrepreneurs-new-years-drinks-with-bks-neighbors/
LOCATION:YES!Delft\, Molengraaffsingel 12\, Delft\, 2629 JD
ATTACH;FMTTYPE=image/jpeg:https://oud.tudelftcampus.nl/wp-content/uploads/2024/12/marisol-benitez-Os8IuLEsSJU-unsplash-scaled.jpg
END:VEVENT
END:VCALENDAR