BEGIN:VCALENDAR
VERSION:2.0
PRODID:-//TU Delft Campus - ECPv6.15.17//NONSGML v1.0//EN
CALSCALE:GREGORIAN
METHOD:PUBLISH
X-WR-CALNAME:TU Delft Campus
X-ORIGINAL-URL:https://oud.tudelftcampus.nl/nl/
X-WR-CALDESC:Evenementen voor TU Delft Campus
REFRESH-INTERVAL;VALUE=DURATION:PT1H
X-Robots-Tag:noindex
X-PUBLISHED-TTL:PT1H
BEGIN:VTIMEZONE
TZID:Europe/Amsterdam
BEGIN:DAYLIGHT
TZOFFSETFROM:+0100
TZOFFSETTO:+0200
TZNAME:CEST
DTSTART:20230326T010000
END:DAYLIGHT
BEGIN:STANDARD
TZOFFSETFROM:+0200
TZOFFSETTO:+0100
TZNAME:CET
DTSTART:20231029T010000
END:STANDARD
BEGIN:DAYLIGHT
TZOFFSETFROM:+0100
TZOFFSETTO:+0200
TZNAME:CEST
DTSTART:20240331T010000
END:DAYLIGHT
BEGIN:STANDARD
TZOFFSETFROM:+0200
TZOFFSETTO:+0100
TZNAME:CET
DTSTART:20241027T010000
END:STANDARD
BEGIN:DAYLIGHT
TZOFFSETFROM:+0100
TZOFFSETTO:+0200
TZNAME:CEST
DTSTART:20250330T010000
END:DAYLIGHT
BEGIN:STANDARD
TZOFFSETFROM:+0200
TZOFFSETTO:+0100
TZNAME:CET
DTSTART:20251026T010000
END:STANDARD
END:VTIMEZONE
BEGIN:VEVENT
DTSTART;VALUE=DATE:20241105
DTEND;VALUE=DATE:20241108
DTSTAMP:20260422T055708
CREATED:20240822T092929Z
LAST-MODIFIED:20240822T100201Z
UID:22581-1730764800-1731023999@oud.tudelftcampus.nl
SUMMARY:DroneHorizon 2024
DESCRIPTION:Het wachten is over: De lancering van de DroneHorizon 2024 website\, ticket verkoop en partnership kansen is eindelijk hier!\nMarkeer 5-7 november 2024 in uw agenda en doe mee aan DroneHorizon 2024: The Autonomous and Uncrewed Systems Summit. Dit evenement op meerdere locaties toont toepassingen in de echte wereld en biedt strategische inzichten voor impactvolle resultaten op het land\, water\, in de lucht en in de ruimte. \nDroneHorizon 2024 is gestructureerd rond drie kernthema’s: \n✔️ 𝗦𝗺𝗮𝗿𝘁 & 𝗦𝘂𝘀𝘁𝗮𝗶𝗻𝗮𝗯𝗹𝗲 𝗣𝗿𝗮𝗰𝘁𝗶𝗰𝗲𝘀: Autonome en onbemande systemen kunnen de efficiëntie en duurzaamheid van talloze sectoren aanzienlijk verbeteren. Ontdek de meest veelbelovende en succesvolle toepassingen. \n✔️𝗦𝗮𝗳𝗲𝘁𝘆 & 𝗦𝗲𝗰𝘂𝗿𝗶𝘁𝘆 𝗢𝗽𝗲𝗿𝗮𝘁𝗶𝗼𝗻𝘀: Zie hoe autonome en onbemande systemen kunnen bijdragen aan de veiligheid en beveiliging van zaken. En hoe we potentiële onbemande threads kunnen tegengaan via C-UAS-technologie. \n✔️ 𝗕𝘂𝘀𝗶𝗻𝗲𝘀𝘀 & 𝗦𝗼𝗰𝗶𝗲𝘁𝗮𝗹 𝗩𝗮𝗹𝘂𝗲: Ontdek de transformerende effecten van autonome en onbemande systemen op bedrijfsinnovatie en maatschappelijk welzijn. \nGet your tickets now!
URL:https://oud.tudelftcampus.nl/nl/event/dronehorizon-2024/
LOCATION:Rotterdam
ATTACH;FMTTYPE=image/jpeg:https://oud.tudelftcampus.nl/wp-content/uploads/2024/08/images.jpeg
END:VEVENT
END:VCALENDAR