BEGIN:VCALENDAR
VERSION:2.0
PRODID:-//TU Delft Campus - ECPv6.15.17//NONSGML v1.0//EN
CALSCALE:GREGORIAN
METHOD:PUBLISH
X-WR-CALNAME:TU Delft Campus
X-ORIGINAL-URL:https://oud.tudelftcampus.nl/nl/
X-WR-CALDESC:Evenementen voor TU Delft Campus
REFRESH-INTERVAL;VALUE=DURATION:PT1H
X-Robots-Tag:noindex
X-PUBLISHED-TTL:PT1H
BEGIN:VTIMEZONE
TZID:Europe/Amsterdam
BEGIN:DAYLIGHT
TZOFFSETFROM:+0100
TZOFFSETTO:+0200
TZNAME:CEST
DTSTART:20230326T010000
END:DAYLIGHT
BEGIN:STANDARD
TZOFFSETFROM:+0200
TZOFFSETTO:+0100
TZNAME:CET
DTSTART:20231029T010000
END:STANDARD
BEGIN:DAYLIGHT
TZOFFSETFROM:+0100
TZOFFSETTO:+0200
TZNAME:CEST
DTSTART:20240331T010000
END:DAYLIGHT
BEGIN:STANDARD
TZOFFSETFROM:+0200
TZOFFSETTO:+0100
TZNAME:CET
DTSTART:20241027T010000
END:STANDARD
BEGIN:DAYLIGHT
TZOFFSETFROM:+0100
TZOFFSETTO:+0200
TZNAME:CEST
DTSTART:20250330T010000
END:DAYLIGHT
BEGIN:STANDARD
TZOFFSETFROM:+0200
TZOFFSETTO:+0100
TZNAME:CET
DTSTART:20251026T010000
END:STANDARD
END:VTIMEZONE
BEGIN:VEVENT
DTSTART;TZID=Europe/Amsterdam:20240112T123000
DTEND;TZID=Europe/Amsterdam:20240112T150000
DTSTAMP:20260422T175449
CREATED:20240108T095407Z
LAST-MODIFIED:20240108T095524Z
UID:19537-1705062600-1705071600@oud.tudelftcampus.nl
SUMMARY:Delta Innovation Day
DESCRIPTION:  \nWil je inspiratie opdoen en met eigen ogen zien welke klimaatadaptieve innovaties er op The Green Village zijn om te kunnen omgaan met extremer weer in onze Zuid-Hollandse delta? Of ben je benieuwd naar hoe we op Flood Proof Holland hoogwater en overstromingen simuleren om zo nieuwe oplossingen voor watersnood te testen? \nTer gelegenheid van de Dies Natalis ‘Redesigning deltas’ en het 10-jarig bestaan van ons innovatieprogramma VPdelta+ zijn jullie van harte welkom op vrijdag 12 januari 2024 op de Delta Innovation Day! \nLees meer over dit event en meld je hier aan!
URL:https://oud.tudelftcampus.nl/nl/event/delta-innovation-day/
LOCATION:The Green Village\, Van den Broekweg\, Delft\, 2628 CR
ATTACH;FMTTYPE=image/jpeg:https://oud.tudelftcampus.nl/wp-content/uploads/2024/01/DIES-600x1920-header-website-2-002.jpg
END:VEVENT
END:VCALENDAR