BEGIN:VCALENDAR
VERSION:2.0
PRODID:-//TU Delft Campus - ECPv6.15.17//NONSGML v1.0//EN
CALSCALE:GREGORIAN
METHOD:PUBLISH
X-WR-CALNAME:TU Delft Campus
X-ORIGINAL-URL:https://oud.tudelftcampus.nl/nl/
X-WR-CALDESC:Evenementen voor TU Delft Campus
REFRESH-INTERVAL;VALUE=DURATION:PT1H
X-Robots-Tag:noindex
X-PUBLISHED-TTL:PT1H
BEGIN:VTIMEZONE
TZID:Europe/Amsterdam
BEGIN:DAYLIGHT
TZOFFSETFROM:+0100
TZOFFSETTO:+0200
TZNAME:CEST
DTSTART:20240331T010000
END:DAYLIGHT
BEGIN:STANDARD
TZOFFSETFROM:+0200
TZOFFSETTO:+0100
TZNAME:CET
DTSTART:20241027T010000
END:STANDARD
BEGIN:DAYLIGHT
TZOFFSETFROM:+0100
TZOFFSETTO:+0200
TZNAME:CEST
DTSTART:20250330T010000
END:DAYLIGHT
BEGIN:STANDARD
TZOFFSETFROM:+0200
TZOFFSETTO:+0100
TZNAME:CET
DTSTART:20251026T010000
END:STANDARD
BEGIN:DAYLIGHT
TZOFFSETFROM:+0100
TZOFFSETTO:+0200
TZNAME:CEST
DTSTART:20260329T010000
END:DAYLIGHT
BEGIN:STANDARD
TZOFFSETFROM:+0200
TZOFFSETTO:+0100
TZNAME:CET
DTSTART:20261025T010000
END:STANDARD
END:VTIMEZONE
BEGIN:VEVENT
DTSTART;TZID=Europe/Amsterdam:20251009T170000
DTEND;TZID=Europe/Amsterdam:20251009T200000
DTSTAMP:20260422T020636
CREATED:20250909T121317Z
LAST-MODIFIED:20250909T124743Z
UID:24484-1760029200-1760040000@oud.tudelftcampus.nl
SUMMARY:Delft MAAKT ruimte
DESCRIPTION:  \nIn delft werken ruim 450 van de meest innovatieve startups en bedrijven aan de technologie van morgen. Stuk voor stuk prachtige bedrijven die een belangrijke bijdrage leveren aan onze stad. Er is een dringende behoefte aan maakruimte\, zodat deze bedrijven door kunne groeien. Vastgoedeigenaren en -ontwikkelaars kunnen daarbij een belangrijke rol spelen\, nu en in de toekomst. Tijdens ‘Delft MAAKT ruimte’ brengen we aanbieders en vragers van maakruimte met elkaar in contact. Komt u ook? \nRegistreer via: info@bksonline.nl \nLocatie\nKD Lab\nSchieweg 15a\n2627 AN\, Delft
URL:https://oud.tudelftcampus.nl/nl/event/delft-maakt-ruimte-5/
LOCATION:KD Lab\, Schieweg 15a\, Delft\, 2627AN\, Netherlands
ATTACH;FMTTYPE=image/png:https://oud.tudelftcampus.nl/wp-content/uploads/2025/09/Schermafbeelding-2025-09-09-141827.png
END:VEVENT
END:VCALENDAR