BEGIN:VCALENDAR
VERSION:2.0
PRODID:-//TU Delft Campus - ECPv6.15.17//NONSGML v1.0//EN
CALSCALE:GREGORIAN
METHOD:PUBLISH
X-WR-CALNAME:TU Delft Campus
X-ORIGINAL-URL:https://oud.tudelftcampus.nl/nl/
X-WR-CALDESC:Evenementen voor TU Delft Campus
REFRESH-INTERVAL;VALUE=DURATION:PT1H
X-Robots-Tag:noindex
X-PUBLISHED-TTL:PT1H
BEGIN:VTIMEZONE
TZID:Europe/Amsterdam
BEGIN:DAYLIGHT
TZOFFSETFROM:+0100
TZOFFSETTO:+0200
TZNAME:CEST
DTSTART:20220327T010000
END:DAYLIGHT
BEGIN:STANDARD
TZOFFSETFROM:+0200
TZOFFSETTO:+0100
TZNAME:CET
DTSTART:20221030T010000
END:STANDARD
BEGIN:DAYLIGHT
TZOFFSETFROM:+0100
TZOFFSETTO:+0200
TZNAME:CEST
DTSTART:20230326T010000
END:DAYLIGHT
BEGIN:STANDARD
TZOFFSETFROM:+0200
TZOFFSETTO:+0100
TZNAME:CET
DTSTART:20231029T010000
END:STANDARD
BEGIN:DAYLIGHT
TZOFFSETFROM:+0100
TZOFFSETTO:+0200
TZNAME:CEST
DTSTART:20240331T010000
END:DAYLIGHT
BEGIN:STANDARD
TZOFFSETFROM:+0200
TZOFFSETTO:+0100
TZNAME:CET
DTSTART:20241027T010000
END:STANDARD
END:VTIMEZONE
BEGIN:VEVENT
DTSTART;TZID=Europe/Amsterdam:20231026T170000
DTEND;TZID=Europe/Amsterdam:20231026T200000
DTSTAMP:20260422T220018
CREATED:20230816T141407Z
LAST-MODIFIED:20230816T141407Z
UID:17438-1698339600-1698350400@oud.tudelftcampus.nl
SUMMARY:Delft MAAKT Ruimte
DESCRIPTION:  \nOn the 26th of October the third edition of ‘Delft MAAKT Ruimte’ will take place. During this event\, we will connect real estate owners and developers to innovative businesses looking for manufacturing space in Delft. Is your company growing and looking for an office and manufacturing space in Delft? Write down the 26th of October\, 17:00 in your planner. The event will be hosted at CEAD \nRegister via: info@delftmaaktruimte.nl \nDelft MAAKT Ruimte is an initiative of the municipality of Delft\, Bedrijven Kring Schieoevers and TU Delft Campus and aims to create a better match between supply and demand of manufacturing space. \n 
URL:https://oud.tudelftcampus.nl/nl/event/delft-maakt-ruimte-2/
LOCATION:CEAD\, Schieweg 25\, Delft\, 2627 AN
ATTACH;FMTTYPE=image/jpeg:https://oud.tudelftcampus.nl/wp-content/uploads/2023/08/Delfmaaktruimte.jpg
END:VEVENT
END:VCALENDAR