BEGIN:VCALENDAR
VERSION:2.0
PRODID:-//TU Delft Campus - ECPv6.15.17//NONSGML v1.0//EN
CALSCALE:GREGORIAN
METHOD:PUBLISH
X-WR-CALNAME:TU Delft Campus
X-ORIGINAL-URL:https://oud.tudelftcampus.nl/nl/
X-WR-CALDESC:Evenementen voor TU Delft Campus
REFRESH-INTERVAL;VALUE=DURATION:PT1H
X-Robots-Tag:noindex
X-PUBLISHED-TTL:PT1H
BEGIN:VTIMEZONE
TZID:Europe/Amsterdam
BEGIN:DAYLIGHT
TZOFFSETFROM:+0100
TZOFFSETTO:+0200
TZNAME:CEST
DTSTART:20230326T010000
END:DAYLIGHT
BEGIN:STANDARD
TZOFFSETFROM:+0200
TZOFFSETTO:+0100
TZNAME:CET
DTSTART:20231029T010000
END:STANDARD
BEGIN:DAYLIGHT
TZOFFSETFROM:+0100
TZOFFSETTO:+0200
TZNAME:CEST
DTSTART:20240331T010000
END:DAYLIGHT
BEGIN:STANDARD
TZOFFSETFROM:+0200
TZOFFSETTO:+0100
TZNAME:CET
DTSTART:20241027T010000
END:STANDARD
BEGIN:DAYLIGHT
TZOFFSETFROM:+0100
TZOFFSETTO:+0200
TZNAME:CEST
DTSTART:20250330T010000
END:DAYLIGHT
BEGIN:STANDARD
TZOFFSETFROM:+0200
TZOFFSETTO:+0100
TZNAME:CET
DTSTART:20251026T010000
END:STANDARD
END:VTIMEZONE
BEGIN:VEVENT
DTSTART;TZID=Europe/Amsterdam:20241128T123000
DTEND;TZID=Europe/Amsterdam:20241128T133000
DTSTAMP:20260422T040252
CREATED:20241028T124537Z
LAST-MODIFIED:20241114T131457Z
UID:23092-1732797000-1732800600@oud.tudelftcampus.nl
SUMMARY:Delft BijBaan
DESCRIPTION:  \nLooking for a side job in tech? Come visit us for this speed date event. Are you a student eager to gain hands-on experience and kickstart your career alongside top tech companies such as Qafka Robotics B.v. or Dot Robot? Here’s your chance! \nCome prepared\, bring your questions and let’s get you one step closer to your future career! \n12.30-13.30 (walk-in 12.15 to grab a free sandwich) \nRegistration: De Delftse Bijbaan \nPowered by Gemeente Delft\, TU Delft Campus and Social Impact Hub. \nMeet companies that are all located in Delft: Canopus Drilling Solutions\, TJIP\, Qafka Robotics B.V.\, FOTONIQ\, Studio Convex\, DailyOps\, Femto Engineering\, XINTC\, Dot Robot\, Luo Automation \nLocation\nRoboHouse\nJulianalaan 67\, Delft \n 
URL:https://oud.tudelftcampus.nl/nl/event/delft-bijbaan/
LOCATION:RoboHouse\, Julianalaan 67\, Delft\, 2628 BC
ATTACH;FMTTYPE=image/jpeg:https://oud.tudelftcampus.nl/wp-content/uploads/2024/10/sebastian-herrmann-NbtIDoFKGO8-unsplash-scaled.jpg
END:VEVENT
END:VCALENDAR