BEGIN:VCALENDAR
VERSION:2.0
PRODID:-//TU Delft Campus - ECPv6.15.17//NONSGML v1.0//EN
CALSCALE:GREGORIAN
METHOD:PUBLISH
X-WR-CALNAME:TU Delft Campus
X-ORIGINAL-URL:https://oud.tudelftcampus.nl/nl/
X-WR-CALDESC:Evenementen voor TU Delft Campus
REFRESH-INTERVAL;VALUE=DURATION:PT1H
X-Robots-Tag:noindex
X-PUBLISHED-TTL:PT1H
BEGIN:VTIMEZONE
TZID:Europe/Amsterdam
BEGIN:DAYLIGHT
TZOFFSETFROM:+0100
TZOFFSETTO:+0200
TZNAME:CEST
DTSTART:20220327T010000
END:DAYLIGHT
BEGIN:STANDARD
TZOFFSETFROM:+0200
TZOFFSETTO:+0100
TZNAME:CET
DTSTART:20221030T010000
END:STANDARD
BEGIN:DAYLIGHT
TZOFFSETFROM:+0100
TZOFFSETTO:+0200
TZNAME:CEST
DTSTART:20230326T010000
END:DAYLIGHT
BEGIN:STANDARD
TZOFFSETFROM:+0200
TZOFFSETTO:+0100
TZNAME:CET
DTSTART:20231029T010000
END:STANDARD
BEGIN:DAYLIGHT
TZOFFSETFROM:+0100
TZOFFSETTO:+0200
TZNAME:CEST
DTSTART:20240331T010000
END:DAYLIGHT
BEGIN:STANDARD
TZOFFSETFROM:+0200
TZOFFSETTO:+0100
TZNAME:CET
DTSTART:20241027T010000
END:STANDARD
END:VTIMEZONE
BEGIN:VEVENT
DTSTART;TZID=Europe/Amsterdam:20230522T174500
DTEND;TZID=Europe/Amsterdam:20230522T210000
DTSTAMP:20260423T053835
CREATED:20230504T095914Z
LAST-MODIFIED:20230504T100236Z
UID:16174-1684777500-1684789200@oud.tudelftcampus.nl
SUMMARY:Courageous Conversations: Say difficult things with clarity and kindness
DESCRIPTION:  \nThroughout our life\, there will be challenging conversations that need to be had – at work\, in friendship\, with your family\, and especially when you’re a manager or leader. Can you handle them? \nCrucial Conversations are conversations that matter. They involve difficult truths\, address difficult situations\, and are often avoided – to the detriment of our teams\, relationships and projects. We call them Crucial Conversations because the stakes are high. If they don’t happen\, or go badly\, there are consequences–in the form of failed projects\, failed relationships\, and destructive behavior\, just to name a few! \nSince avoiding Crucial Conversations tends to only make things worse\, your best bet is to get good at having these conversations\, and then choose when and where you want to have them. Increasing your ability in this domain builds confidence\, expands your influence\, and enables you to create the positive change you want to have. \nIn this experiential workshop\, Buccaneer Delft and Female Ventures will work with you on cultivating the inner skill of embodying Courageous Presence\, and will learn practical skills for effective Courageous Conversations. You will get an embodied roadmap for navigating this difficult territory\, along with useful tools you can apply immediately to your work and life. \nDeveloping this foundational life skill will serve you well throughout your career\, in leadership\, and in any of your relationships. \nSpeaker\nDeepika Sheleff\, co-founder Aurum Leadership\, has been an international trainer and leadership coach for over 20 years\, supporting people to transform the way they lead\, create and live their lives. As co-founder of Aurum Leadership\, she designs and leads workshops and training programs for organizations\, teaching leaders to bring their whole selves to work – including body\, heart and mind. Deepika uses body-based coaching and relationship skills to help teams (and individuals) communicate openly and effectively\, unleashing the potential of the team. \nSchedule\n17:45 Doors Open – Walk in with drinks and bites\n18:15 Introduction\n18:30 Workshop\n20:00-20:15 – Q&A and closing sharing\n20:15 – Lively networking session applying the skills just learned\n21:00 End of event and networking \nYou can register here \nLocation\nBuccaneer Delft\nPaardenmarkt 1\, Delft
URL:https://oud.tudelftcampus.nl/nl/event/courageous-conversations-say-difficult-things-with-clarity-and-kindness/
LOCATION:Buccaneer Delft\, Paardenmarkt 1\, Delft\, 2611 PA
ATTACH;FMTTYPE=image/jpeg:https://oud.tudelftcampus.nl/wp-content/uploads/2023/05/https___cdn.evbuc_.com_images_486785909_177080890587_1_original.jpg
END:VEVENT
END:VCALENDAR