BEGIN:VCALENDAR
VERSION:2.0
PRODID:-//TU Delft Campus - ECPv6.15.17//NONSGML v1.0//EN
CALSCALE:GREGORIAN
METHOD:PUBLISH
X-WR-CALNAME:TU Delft Campus
X-ORIGINAL-URL:https://oud.tudelftcampus.nl/nl/
X-WR-CALDESC:Evenementen voor TU Delft Campus
REFRESH-INTERVAL;VALUE=DURATION:PT1H
X-Robots-Tag:noindex
X-PUBLISHED-TTL:PT1H
BEGIN:VTIMEZONE
TZID:Europe/Amsterdam
BEGIN:DAYLIGHT
TZOFFSETFROM:+0100
TZOFFSETTO:+0200
TZNAME:CEST
DTSTART:20230326T010000
END:DAYLIGHT
BEGIN:STANDARD
TZOFFSETFROM:+0200
TZOFFSETTO:+0100
TZNAME:CET
DTSTART:20231029T010000
END:STANDARD
BEGIN:DAYLIGHT
TZOFFSETFROM:+0100
TZOFFSETTO:+0200
TZNAME:CEST
DTSTART:20240331T010000
END:DAYLIGHT
BEGIN:STANDARD
TZOFFSETFROM:+0200
TZOFFSETTO:+0100
TZNAME:CET
DTSTART:20241027T010000
END:STANDARD
BEGIN:DAYLIGHT
TZOFFSETFROM:+0100
TZOFFSETTO:+0200
TZNAME:CEST
DTSTART:20250330T010000
END:DAYLIGHT
BEGIN:STANDARD
TZOFFSETFROM:+0200
TZOFFSETTO:+0100
TZNAME:CET
DTSTART:20251026T010000
END:STANDARD
END:VTIMEZONE
BEGIN:VEVENT
DTSTART;TZID=Europe/Amsterdam:20240704T170000
DTEND;TZID=Europe/Amsterdam:20240704T200000
DTSTAMP:20260422T055510
CREATED:20240410T082819Z
LAST-MODIFIED:20240410T082819Z
UID:22139-1720112400-1720123200@oud.tudelftcampus.nl
SUMMARY:Community Run
DESCRIPTION:  \nWe’re excited to invite you to participate in the second edition of our TU Delft Campus Community Run! Lace-up your running shoes\, gather your colleagues\, and join us for 5 or 10 km of fun\, fitness\, and community spirit. Whether you’re a seasoned runner or just starting your fitness journey\, this event is for everyone! \nOf course\, we also welcome those who prefer cheering over running. Join us in coming together for our monthly Community Drinks at Firma van Buiten\, where the run starts and finishes. Let’s unite to support the runners\, just before we are hoping into the summer recess. \nSpaces for the run are limited\, so make sure to reserve your spot today\, and start training for this exciting community event! \nJoin us and let’s run towards a stronger\, healthier\, and more connected community! \nLocation\nFirma van Buiten\nThijsseweg 1\, Delft
URL:https://oud.tudelftcampus.nl/nl/event/community-run/
LOCATION:Firma van Buiten\, Thijsseweg 1\, Delft\, 2629 JA
ATTACH;FMTTYPE=image/jpeg:https://oud.tudelftcampus.nl/wp-content/uploads/2024/03/The-Creators-Hub-Jordi-Sloots-TU-DELFT-49-scaled.jpg
END:VEVENT
END:VCALENDAR