BEGIN:VCALENDAR
VERSION:2.0
PRODID:-//TU Delft Campus - ECPv6.15.17//NONSGML v1.0//EN
CALSCALE:GREGORIAN
METHOD:PUBLISH
X-WR-CALNAME:TU Delft Campus
X-ORIGINAL-URL:https://oud.tudelftcampus.nl/nl/
X-WR-CALDESC:Evenementen voor TU Delft Campus
REFRESH-INTERVAL;VALUE=DURATION:PT1H
X-Robots-Tag:noindex
X-PUBLISHED-TTL:PT1H
BEGIN:VTIMEZONE
TZID:Europe/Amsterdam
BEGIN:DAYLIGHT
TZOFFSETFROM:+0100
TZOFFSETTO:+0200
TZNAME:CEST
DTSTART:20240331T010000
END:DAYLIGHT
BEGIN:STANDARD
TZOFFSETFROM:+0200
TZOFFSETTO:+0100
TZNAME:CET
DTSTART:20241027T010000
END:STANDARD
BEGIN:DAYLIGHT
TZOFFSETFROM:+0100
TZOFFSETTO:+0200
TZNAME:CEST
DTSTART:20250330T010000
END:DAYLIGHT
BEGIN:STANDARD
TZOFFSETFROM:+0200
TZOFFSETTO:+0100
TZNAME:CET
DTSTART:20251026T010000
END:STANDARD
BEGIN:DAYLIGHT
TZOFFSETFROM:+0100
TZOFFSETTO:+0200
TZNAME:CEST
DTSTART:20260329T010000
END:DAYLIGHT
BEGIN:STANDARD
TZOFFSETFROM:+0200
TZOFFSETTO:+0100
TZNAME:CET
DTSTART:20261025T010000
END:STANDARD
END:VTIMEZONE
BEGIN:VEVENT
DTSTART;TZID=Europe/Amsterdam:20251209T160000
DTEND;TZID=Europe/Amsterdam:20251209T200000
DTSTAMP:20260422T000240
CREATED:20250902T102343Z
LAST-MODIFIED:20251209T084321Z
UID:24457-1765296000-1765310400@oud.tudelftcampus.nl
SUMMARY:Community Run & Drinks
DESCRIPTION:  \nWe nodigen je van harte uit voor de derde editie van de TU Delft Campus Community Run! \nTrek je hardloopschoenen aan\, trommel je collega’s op en doe mee aan 5 of 10 km renplezier. Of je nu een ervaren hardloper bent of net begint\, dit evenement is voor iedereen. \nGeen hardloper? Geen probleem! Kom de deelnemers aanmoedigen en sluit daarna aan bij de Community Drinks bij Firma van Buiten\, waar de run begint en eindigt. Laten we samen de hardlopers aanmoedigen\, ze kunnen het vast gebruiken tijdens deze winterse uitdaging! \nEr is beperkte plaats\, dus reserveer vandaag nog je plek en begin met trainen voor dit sportieve community evenement. De inschrijving sluit op 21 november om 17.00 uur. \nLocatie\nFirma van Buiten\nThijsseweg 1\, Delft
URL:https://oud.tudelftcampus.nl/nl/event/community-run-drinks/
LOCATION:Firma van Buiten\, Thijsseweg 1\, Delft\, 2629 JA
ATTACH;FMTTYPE=image/jpeg:https://oud.tudelftcampus.nl/wp-content/uploads/2024/03/The-Creators-Hub-Jordi-Sloots-TU-DELFT-49-scaled.jpg
END:VEVENT
END:VCALENDAR