BEGIN:VCALENDAR
VERSION:2.0
PRODID:-//TU Delft Campus - ECPv6.15.17//NONSGML v1.0//EN
CALSCALE:GREGORIAN
METHOD:PUBLISH
X-WR-CALNAME:TU Delft Campus
X-ORIGINAL-URL:https://oud.tudelftcampus.nl/nl/
X-WR-CALDESC:Evenementen voor TU Delft Campus
REFRESH-INTERVAL;VALUE=DURATION:PT1H
X-Robots-Tag:noindex
X-PUBLISHED-TTL:PT1H
BEGIN:VTIMEZONE
TZID:Europe/Amsterdam
BEGIN:DAYLIGHT
TZOFFSETFROM:+0100
TZOFFSETTO:+0200
TZNAME:CEST
DTSTART:20220327T010000
END:DAYLIGHT
BEGIN:STANDARD
TZOFFSETFROM:+0200
TZOFFSETTO:+0100
TZNAME:CET
DTSTART:20221030T010000
END:STANDARD
BEGIN:DAYLIGHT
TZOFFSETFROM:+0100
TZOFFSETTO:+0200
TZNAME:CEST
DTSTART:20230326T010000
END:DAYLIGHT
BEGIN:STANDARD
TZOFFSETFROM:+0200
TZOFFSETTO:+0100
TZNAME:CET
DTSTART:20231029T010000
END:STANDARD
BEGIN:DAYLIGHT
TZOFFSETFROM:+0100
TZOFFSETTO:+0200
TZNAME:CEST
DTSTART:20240331T010000
END:DAYLIGHT
BEGIN:STANDARD
TZOFFSETFROM:+0200
TZOFFSETTO:+0100
TZNAME:CET
DTSTART:20241027T010000
END:STANDARD
END:VTIMEZONE
BEGIN:VEVENT
DTSTART;TZID=Europe/Amsterdam:20230915T130000
DTEND;TZID=Europe/Amsterdam:20230915T170000
DTSTAMP:20260422T235413
CREATED:20230713T120324Z
LAST-MODIFIED:20230713T120324Z
UID:16963-1694782800-1694797200@oud.tudelftcampus.nl
SUMMARY:Co-Lab
DESCRIPTION:  \nCo-Lab is a specialized workshop aimed at helping you find your co-founder to build your startup with. \nThere is a reason why people don’t climb Everest on their own. With a team\, you can overcome obstacles that seem impossible just by yourself. Research over the past 4 decades has shown that startups that are co-founded by a team are more successful. In the Co-Lab workshop\, as a single founder\, founding team\, or entrepreneurial minded person\, you’ll get the tools and connections to find that new member of your dream team to help you reach the top! \nRegister here for the workshop.
URL:https://oud.tudelftcampus.nl/nl/event/co-lab-3/
LOCATION:YES!Delft\, Molengraaffsingel 12\, Delft\, 2629 JD
ATTACH;FMTTYPE=image/png:https://oud.tudelftcampus.nl/wp-content/uploads/2023/07/s498bkbp.png
END:VEVENT
END:VCALENDAR