BEGIN:VCALENDAR
VERSION:2.0
PRODID:-//TU Delft Campus - ECPv6.15.17//NONSGML v1.0//EN
CALSCALE:GREGORIAN
METHOD:PUBLISH
X-WR-CALNAME:TU Delft Campus
X-ORIGINAL-URL:https://oud.tudelftcampus.nl/nl/
X-WR-CALDESC:Evenementen voor TU Delft Campus
REFRESH-INTERVAL;VALUE=DURATION:PT1H
X-Robots-Tag:noindex
X-PUBLISHED-TTL:PT1H
BEGIN:VTIMEZONE
TZID:UTC
BEGIN:STANDARD
TZOFFSETFROM:+0000
TZOFFSETTO:+0000
TZNAME:UTC
DTSTART:20250101T000000
END:STANDARD
END:VTIMEZONE
BEGIN:VEVENT
DTSTART;TZID=UTC:20260317T090000
DTEND;TZID=UTC:20260317T173000
DTSTAMP:20260422T000240
CREATED:20251215T130646Z
LAST-MODIFIED:20251216T084555Z
UID:24867-1773738000-1773768600@oud.tudelftcampus.nl
SUMMARY:Clean Tech Conference
DESCRIPTION:  \nNa het succes van onze vorige conferenties over waterstof en groene chemie in 2023 en 2024 presenteren we met trots de Clean Tech Conference 2026 – een evenement van een hele dag dat gewijd is aan het smeden van sterkere samenwerkingsverbanden tussen wetenschap\, technologie\, industrie en beleid om de energietransitie te versnellen. \nNeem deel aan deze uitzonderlijke bijeenkomst van vooraanstaande experts\, innovators\, beleidsmakers en pioniers uit de industrie die vorm geven aan de technologieën en strategieën die een duurzame toekomst mogelijk maken. \nDeze derde editie betekent een belangrijke stap voorwaarts\, met een rijker programma en meer mogelijkheden voor contacten en samenwerking. Ontdek de nieuwste ontwikkelingen op het gebied van onderzoek en innovatie op het gebied van schone technologie – van waterstof en groene chemie tot geïntegreerde energiesystemen – en ontdek hoe het onderzoek en de partnerschappen van de TU Delft de weg vrijmaken voor een schonere industrie. Meld je aan via deze link. \nLocatie\nTU Delft Aula Conference Centre\nMekelweg 5\n2628 CC Delft
URL:https://oud.tudelftcampus.nl/nl/event/clean-tech-conference/
LOCATION:Aula Conference Centre\, Mekelweg 5\, Delft\, 2628 CC
ATTACH;FMTTYPE=image/jpeg:https://oud.tudelftcampus.nl/wp-content/uploads/2025/12/1204659-scaled.jpg
END:VEVENT
END:VCALENDAR