BEGIN:VCALENDAR
VERSION:2.0
PRODID:-//TU Delft Campus - ECPv6.15.17//NONSGML v1.0//EN
CALSCALE:GREGORIAN
METHOD:PUBLISH
X-WR-CALNAME:TU Delft Campus
X-ORIGINAL-URL:https://oud.tudelftcampus.nl/nl/
X-WR-CALDESC:Evenementen voor TU Delft Campus
REFRESH-INTERVAL;VALUE=DURATION:PT1H
X-Robots-Tag:noindex
X-PUBLISHED-TTL:PT1H
BEGIN:VTIMEZONE
TZID:Europe/Amsterdam
BEGIN:DAYLIGHT
TZOFFSETFROM:+0100
TZOFFSETTO:+0200
TZNAME:CEST
DTSTART:20230326T010000
END:DAYLIGHT
BEGIN:STANDARD
TZOFFSETFROM:+0200
TZOFFSETTO:+0100
TZNAME:CET
DTSTART:20231029T010000
END:STANDARD
BEGIN:DAYLIGHT
TZOFFSETFROM:+0100
TZOFFSETTO:+0200
TZNAME:CEST
DTSTART:20240331T010000
END:DAYLIGHT
BEGIN:STANDARD
TZOFFSETFROM:+0200
TZOFFSETTO:+0100
TZNAME:CET
DTSTART:20241027T010000
END:STANDARD
BEGIN:DAYLIGHT
TZOFFSETFROM:+0100
TZOFFSETTO:+0200
TZNAME:CEST
DTSTART:20250330T010000
END:DAYLIGHT
BEGIN:STANDARD
TZOFFSETFROM:+0200
TZOFFSETTO:+0100
TZNAME:CET
DTSTART:20251026T010000
END:STANDARD
END:VTIMEZONE
BEGIN:VEVENT
DTSTART;TZID=Europe/Amsterdam:20240305T130000
DTEND;TZID=Europe/Amsterdam:20240305T150000
DTSTAMP:20260422T135950
CREATED:20240215T095011Z
LAST-MODIFIED:20240215T095011Z
UID:20542-1709643600-1709650800@oud.tudelftcampus.nl
SUMMARY:CEE2ACT: Gearing up for Knowledge Transfer in the Circular Bioeconomy
DESCRIPTION:Gearing up for Knowledge Transfer in the Circular Bioeconomy: Financial\, Legal & Collaboration Issues [Webinar]\n\nWhen: Tue\, March 5\, 1PM-3PM \nLocation: Online on Zoom \nThe CEE2ACT project is organizing its first 2024 online event in the Knowledge Transfer Series.\n\n\n\n\n\n\n\nThis international webinar will take place on Tuesday 5 March 2024 from 13:00-15:00 CET via Zoom\, and it is entitled “Gearing up for Knowledge Transfer in the Circular Bioeconomy: Financial\, Legal & Collaboration Issues”. \nThree keynote speakers from Sweden and The Netherlands (amongst them\, our Scientific Director Eveline van Leeuwen) will share their experiences about: \n\nTackling financial barriers for the implementation of a bioeconomy\nStrategies to promote legal support and alignment on the development of a bioeconomy\nStrategies for the promotion of bioeconomy collaboration\n\nRegister here for the webinar (for free). More information will follow after registration. \nMore information about the CEE2ACT project.
URL:https://oud.tudelftcampus.nl/nl/event/cee2act-gearing-up-for-knowledge-transfer-in-the-circular-bioeconomy/
LOCATION:Online
ATTACH;FMTTYPE=image/jpeg:https://oud.tudelftcampus.nl/wp-content/uploads/2024/02/CEE2ACT-webinar.jpg.1648x0_q85_upscale.jpg
END:VEVENT
END:VCALENDAR