BEGIN:VCALENDAR
VERSION:2.0
PRODID:-//TU Delft Campus - ECPv6.15.17//NONSGML v1.0//EN
CALSCALE:GREGORIAN
METHOD:PUBLISH
X-WR-CALNAME:TU Delft Campus
X-ORIGINAL-URL:https://oud.tudelftcampus.nl
X-WR-CALDESC:Events for TU Delft Campus
REFRESH-INTERVAL;VALUE=DURATION:PT1H
X-Robots-Tag:noindex
X-PUBLISHED-TTL:PT1H
BEGIN:VTIMEZONE
TZID:Europe/Amsterdam
BEGIN:DAYLIGHT
TZOFFSETFROM:+0100
TZOFFSETTO:+0200
TZNAME:CEST
DTSTART:20250330T010000
END:DAYLIGHT
BEGIN:STANDARD
TZOFFSETFROM:+0200
TZOFFSETTO:+0100
TZNAME:CET
DTSTART:20251026T010000
END:STANDARD
BEGIN:DAYLIGHT
TZOFFSETFROM:+0100
TZOFFSETTO:+0200
TZNAME:CEST
DTSTART:20260329T010000
END:DAYLIGHT
BEGIN:STANDARD
TZOFFSETFROM:+0200
TZOFFSETTO:+0100
TZNAME:CET
DTSTART:20261025T010000
END:STANDARD
BEGIN:DAYLIGHT
TZOFFSETFROM:+0100
TZOFFSETTO:+0200
TZNAME:CEST
DTSTART:20270328T010000
END:DAYLIGHT
BEGIN:STANDARD
TZOFFSETFROM:+0200
TZOFFSETTO:+0100
TZNAME:CET
DTSTART:20271031T010000
END:STANDARD
END:VTIMEZONE
BEGIN:VEVENT
DTSTART;TZID=Europe/Amsterdam:20260423T160000
DTEND;TZID=Europe/Amsterdam:20260423T180000
DTSTAMP:20260421T160552
CREATED:20260226T115416Z
LAST-MODIFIED:20260303T082454Z
UID:10001177-1776960000-1776967200@oud.tudelftcampus.nl
SUMMARY:Mix. Mingle. Meet.
DESCRIPTION:  \nOn the 23rd of April\, TU Delft Campus brings together ambitious talent\, innovative companies\, and entrepreneurial professionals for an informal networking event at NEXT Delft — where connections\, ideas\, and opportunities meet. \nWhether you’re looking to explore new career opportunities\, discover fresh talent\, or expand your professional network\, this event offers the perfect setting. Meet inspiring TU Delft alumni\, fellow entrepreneurs\, and like-minded professionals\, exchange ideas\, and strengthen your ties within the community. \nExpect a relaxed atmosphere\, engaging conversations\, and plenty of time to network over drinks and bites. \nLocation\nNEXT Delft\nMolengraaffsingel 8\, Delft
URL:https://oud.tudelftcampus.nl/event/mix-mingle-meet/
LOCATION:NEXT Delft\, Molengraaffsingel 8\, Delft\, 2629 JD
ATTACH;FMTTYPE=image/jpeg:https://oud.tudelftcampus.nl/wp-content/uploads/2026/02/Delftse-BijBaan-Lunch-2025-Foto-Sander-Foederer-6128-scaled.jpg
END:VEVENT
BEGIN:VEVENT
DTSTART;TZID=Europe/Amsterdam:20260625T160000
DTEND;TZID=Europe/Amsterdam:20260625T200000
DTSTAMP:20260421T160552
CREATED:20260402T092957Z
LAST-MODIFIED:20260409T094128Z
UID:10001182-1782403200-1782417600@oud.tudelftcampus.nl
SUMMARY:Community Run & Drinks
DESCRIPTION:  \nWe’re excited to invite you to the fourth edition of the TU Delft Campus Community Run! \nLace up your running shoes\, rally your colleagues\, and join us for 5 or 10 km of fun\, fitness\, and community spirit. Whether you’re an experienced runner or just starting out\, this event is for everyone. \nNot a runner? No problem! Come along to cheer on the participants and join us afterwards for Community Drinks at Firma van Buiten\, where the run both starts and finishes. Let’s come together to support the runners! \nPlaces are limited\, so be sure to secure your spot today and start training for this inspiring community event. \nLet’s run towards a stronger\, healthier\, and more connected community \, together! \nProgramme:\n16:00: Drop-in \n16:30: Start sign run 10 km \n16:35: Start sign 5 km \n16:30 – 20:00 Drinks at Firma van Buiten for Supporters and Runners \nLocation\nFirma van Buiten\nThijsseweg 1\, Delft
URL:https://oud.tudelftcampus.nl/event/community-run-drinks-2/
LOCATION:Firma van Buiten\, Thijsseweg 1\, Delft\, 2629 JA
ATTACH;FMTTYPE=image/jpeg:https://oud.tudelftcampus.nl/wp-content/uploads/2024/03/The-Creators-Hub-Jordi-Sloots-TU-DELFT-49-scaled.jpg
END:VEVENT
END:VCALENDAR