BEGIN:VCALENDAR
VERSION:2.0
PRODID:-//TU Delft Campus - ECPv6.15.17//NONSGML v1.0//EN
CALSCALE:GREGORIAN
METHOD:PUBLISH
X-WR-CALNAME:TU Delft Campus
X-ORIGINAL-URL:https://oud.tudelftcampus.nl
X-WR-CALDESC:Events for TU Delft Campus
REFRESH-INTERVAL;VALUE=DURATION:PT1H
X-Robots-Tag:noindex
X-PUBLISHED-TTL:PT1H
BEGIN:VTIMEZONE
TZID:Europe/Amsterdam
BEGIN:DAYLIGHT
TZOFFSETFROM:+0100
TZOFFSETTO:+0200
TZNAME:CEST
DTSTART:20230326T010000
END:DAYLIGHT
BEGIN:STANDARD
TZOFFSETFROM:+0200
TZOFFSETTO:+0100
TZNAME:CET
DTSTART:20231029T010000
END:STANDARD
BEGIN:DAYLIGHT
TZOFFSETFROM:+0100
TZOFFSETTO:+0200
TZNAME:CEST
DTSTART:20240331T010000
END:DAYLIGHT
BEGIN:STANDARD
TZOFFSETFROM:+0200
TZOFFSETTO:+0100
TZNAME:CET
DTSTART:20241027T010000
END:STANDARD
BEGIN:DAYLIGHT
TZOFFSETFROM:+0100
TZOFFSETTO:+0200
TZNAME:CEST
DTSTART:20250330T010000
END:DAYLIGHT
BEGIN:STANDARD
TZOFFSETFROM:+0200
TZOFFSETTO:+0100
TZNAME:CET
DTSTART:20251026T010000
END:STANDARD
END:VTIMEZONE
BEGIN:VEVENT
DTSTART;TZID=Europe/Amsterdam:20241115T160000
DTEND;TZID=Europe/Amsterdam:20241115T210000
DTSTAMP:20260422T043753
CREATED:20241024T150705Z
LAST-MODIFIED:20241024T150705Z
UID:23026-1731686400-1731704400@oud.tudelftcampus.nl
SUMMARY:Wubbo Ockels Innovation Award
DESCRIPTION:Sign up for the Finale of the Wubbo Ockels Innovation Award 2024\, taking place on November 15 from 4:00 PM to 9:00 PM at The Green Village at TU Delft. \nThis award is a unique recognition that encourages talent to create a sustainable impact on our planet. Each of the three winners will receive €10\,000 in prize money and extensive support to further develop their innovation\, including media coverage on BNR Duurzaam and the Duurzame Podcast. \n\nIt promises to be a festive celebration of Wubbo Ockels’ life and legacy\, with:\nPitches from ten finalists with groundbreaking innovations\nA tour of The Green Village\n Snacks\, drinks\, Karma Kebab\, and dancing with DJ Jan Willem van de Groep!\n\nSign up here!
URL:https://oud.tudelftcampus.nl/event/wubbo-ockels-innovation-award/
LOCATION:The Green Village\, Van den Broekweg\, Delft\, 2628 CR
ATTACH;FMTTYPE=image/jpeg:https://oud.tudelftcampus.nl/wp-content/uploads/2024/10/WubboOckelsInnovatieprijs-scaled.jpg
END:VEVENT
END:VCALENDAR