BEGIN:VCALENDAR
VERSION:2.0
PRODID:-//TU Delft Campus - ECPv6.15.17//NONSGML v1.0//EN
CALSCALE:GREGORIAN
METHOD:PUBLISH
X-WR-CALNAME:TU Delft Campus
X-ORIGINAL-URL:https://oud.tudelftcampus.nl
X-WR-CALDESC:Events for TU Delft Campus
REFRESH-INTERVAL;VALUE=DURATION:PT1H
X-Robots-Tag:noindex
X-PUBLISHED-TTL:PT1H
BEGIN:VTIMEZONE
TZID:Europe/Amsterdam
BEGIN:DAYLIGHT
TZOFFSETFROM:+0100
TZOFFSETTO:+0200
TZNAME:CEST
DTSTART:20230326T010000
END:DAYLIGHT
BEGIN:STANDARD
TZOFFSETFROM:+0200
TZOFFSETTO:+0100
TZNAME:CET
DTSTART:20231029T010000
END:STANDARD
BEGIN:DAYLIGHT
TZOFFSETFROM:+0100
TZOFFSETTO:+0200
TZNAME:CEST
DTSTART:20240331T010000
END:DAYLIGHT
BEGIN:STANDARD
TZOFFSETFROM:+0200
TZOFFSETTO:+0100
TZNAME:CET
DTSTART:20241027T010000
END:STANDARD
BEGIN:DAYLIGHT
TZOFFSETFROM:+0100
TZOFFSETTO:+0200
TZNAME:CEST
DTSTART:20250330T010000
END:DAYLIGHT
BEGIN:STANDARD
TZOFFSETFROM:+0200
TZOFFSETTO:+0100
TZNAME:CET
DTSTART:20251026T010000
END:STANDARD
END:VTIMEZONE
BEGIN:VEVENT
DTSTART;TZID=Europe/Amsterdam:20240326T150000
DTEND;TZID=Europe/Amsterdam:20240326T163000
DTSTAMP:20260422T134643
CREATED:20240216T143144Z
LAST-MODIFIED:20240306T144257Z
UID:20558-1711465200-1711470600@oud.tudelftcampus.nl
SUMMARY:Workshop: Exploring B Corp Certification
DESCRIPTION:  \nJoin us for an interactive workshop where we unravel the power of B Corp certification and its role in successful sustainability. Learn how to understand the significance of B Corp certification\, gain insights into integrating sustainability into your business model\, and identify actionable steps to make a positive impact. \nAgenda\n\nUnderstanding Successful Sustainability – Define successful sustainability and its importance in business practices\nExploring B Corp Certification – Learn how B Corp certification measures impact and discover real-world cases shared by our expert Koen Krommenhoek from Rainbow Collection\nCo-Creative set to work: Identifying Impact Areas – Engage in interactive activities to identify impactful themes for your product/service\n\nLocation\nYES!Delft\, Business Lounge\nMolengraaffsingel 12\, Delft \nRegister now to secure your spot
URL:https://oud.tudelftcampus.nl/event/workshop-exploring-b-corp-certification/
LOCATION:YES!Delft\, Molengraaffsingel 12\, Delft\, 2629 JD
ATTACH;FMTTYPE=image/jpeg:https://oud.tudelftcampus.nl/wp-content/uploads/2024/02/OIP.jpg
END:VEVENT
END:VCALENDAR