BEGIN:VCALENDAR
VERSION:2.0
PRODID:-//TU Delft Campus - ECPv6.15.17//NONSGML v1.0//EN
CALSCALE:GREGORIAN
METHOD:PUBLISH
X-WR-CALNAME:TU Delft Campus
X-ORIGINAL-URL:https://oud.tudelftcampus.nl
X-WR-CALDESC:Events for TU Delft Campus
REFRESH-INTERVAL;VALUE=DURATION:PT1H
X-Robots-Tag:noindex
X-PUBLISHED-TTL:PT1H
BEGIN:VTIMEZONE
TZID:Europe/Amsterdam
BEGIN:DAYLIGHT
TZOFFSETFROM:+0100
TZOFFSETTO:+0200
TZNAME:CEST
DTSTART:20220327T010000
END:DAYLIGHT
BEGIN:STANDARD
TZOFFSETFROM:+0200
TZOFFSETTO:+0100
TZNAME:CET
DTSTART:20221030T010000
END:STANDARD
BEGIN:DAYLIGHT
TZOFFSETFROM:+0100
TZOFFSETTO:+0200
TZNAME:CEST
DTSTART:20230326T010000
END:DAYLIGHT
BEGIN:STANDARD
TZOFFSETFROM:+0200
TZOFFSETTO:+0100
TZNAME:CET
DTSTART:20231029T010000
END:STANDARD
BEGIN:DAYLIGHT
TZOFFSETFROM:+0100
TZOFFSETTO:+0200
TZNAME:CEST
DTSTART:20240331T010000
END:DAYLIGHT
BEGIN:STANDARD
TZOFFSETFROM:+0200
TZOFFSETTO:+0100
TZNAME:CET
DTSTART:20241027T010000
END:STANDARD
END:VTIMEZONE
BEGIN:VEVENT
DTSTART;VALUE=DATE:20230608
DTEND;VALUE=DATE:20230609
DTSTAMP:20260423T072249
CREATED:20230116T124454Z
LAST-MODIFIED:20230509T115013Z
UID:14798-1686182400-1686268799@oud.tudelftcampus.nl
SUMMARY:TU Delft Impact Contest Grande Finale
DESCRIPTION:  \nSince 2019 the TU Delft Impact Contest has offered students the opportunity to further develop their own\, ingenious ideas\, prototypes and research projects into business plans. The main purpose and mission is to challenge students to create great\, out-of-the-box thinking innovative solutions for societal problems and translate them into real products and business plans\, while interacting and making use of the expertise from our innovative and very knowledgeable partners. \nTU Delft Campus is using the contest as a means to bring the academic institution\, students\, government institutions\, companies and organisations together in a community where innovation\, entrepreneurship and co-creation are key. Students at all levels of TU Delft (Bachelor\, Master\, PhD’s\, PDEng’s) are encouraged to pitch their creative ideas and projects and further develop them into a feasible concept. Community building and co-creation with the business community is essential for this and of great added value for students at TU Delft as well as for companies and organisations belonging to the TU Delft Impact Contest’s partner network. \nDuring the Grand Finale the best teams will give a one-minute pitch about their entrepreneurial idea or innovative prototype. After the pitches\, a few teams will participate in the Q&A session where the expert jury asks in depth questions. The afternoon will end with an award ceremony and a bunch of ecstatic students! \nLocation\nTBA
URL:https://oud.tudelftcampus.nl/event/tu-delft-impact-contest-grande-finale/
LOCATION:TBA
ATTACH;FMTTYPE=image/jpeg:https://oud.tudelftcampus.nl/wp-content/uploads/2023/01/TUDIC-final.jpg
END:VEVENT
END:VCALENDAR