BEGIN:VCALENDAR
VERSION:2.0
PRODID:-//TU Delft Campus - ECPv6.15.17//NONSGML v1.0//EN
CALSCALE:GREGORIAN
METHOD:PUBLISH
X-WR-CALNAME:TU Delft Campus
X-ORIGINAL-URL:https://oud.tudelftcampus.nl
X-WR-CALDESC:Events for TU Delft Campus
REFRESH-INTERVAL;VALUE=DURATION:PT1H
X-Robots-Tag:noindex
X-PUBLISHED-TTL:PT1H
BEGIN:VTIMEZONE
TZID:Europe/Amsterdam
BEGIN:DAYLIGHT
TZOFFSETFROM:+0100
TZOFFSETTO:+0200
TZNAME:CEST
DTSTART:20230326T010000
END:DAYLIGHT
BEGIN:STANDARD
TZOFFSETFROM:+0200
TZOFFSETTO:+0100
TZNAME:CET
DTSTART:20231029T010000
END:STANDARD
BEGIN:DAYLIGHT
TZOFFSETFROM:+0100
TZOFFSETTO:+0200
TZNAME:CEST
DTSTART:20240331T010000
END:DAYLIGHT
BEGIN:STANDARD
TZOFFSETFROM:+0200
TZOFFSETTO:+0100
TZNAME:CET
DTSTART:20241027T010000
END:STANDARD
BEGIN:DAYLIGHT
TZOFFSETFROM:+0100
TZOFFSETTO:+0200
TZNAME:CEST
DTSTART:20250330T010000
END:DAYLIGHT
BEGIN:STANDARD
TZOFFSETFROM:+0200
TZOFFSETTO:+0100
TZNAME:CET
DTSTART:20251026T010000
END:STANDARD
END:VTIMEZONE
BEGIN:VEVENT
DTSTART;TZID=Europe/Amsterdam:20240125T083000
DTEND;TZID=Europe/Amsterdam:20240125T103000
DTSTAMP:20260422T175329
CREATED:20231128T074815Z
LAST-MODIFIED:20240117T125533Z
UID:18869-1706171400-1706178600@oud.tudelftcampus.nl
SUMMARY:Founders Breakfast
DESCRIPTION:  \nAfter a successful first edition\, we are happy to announce a new edition of our special (free) breakfast event for founders. A great opportunity to meet\, network and share experiences with like-minded entrepreneurs. The purpose of the event is to foster a sense of community among founders\, share knowledge and learn from each other’s experiences. \nWe will kick off the event with a short icebreaker\, followed by insights from Sander Schutte\, seasoned founder from Mapiq. Afterward\, we invite you to take part in the discussion and share your challenges and successes with the group. \nJoin us for an inspiring start of 2024! \nLocation\nFirma van Buiten\nThijsseweg 1\, Delft \nThis event is powered by the Municipality of Delft\, and is organized in collaboration with YES!Delft\, Quantum Delft\, NEXT Delft\, Aerospace Innovation Hub\, RoboHouse\, Planet B.io\, Buccaneer Delft.
URL:https://oud.tudelftcampus.nl/event/tu-delft-campus-founders-breakfast/
LOCATION:Firma van Buiten\, Thijsseweg 1\, Delft\, 2629 JA
ATTACH;FMTTYPE=image/jpeg:https://oud.tudelftcampus.nl/wp-content/uploads/2023/11/M8A0093_lowres_Willem_de_Kam.jpg
END:VEVENT
END:VCALENDAR