BEGIN:VCALENDAR
VERSION:2.0
PRODID:-//TU Delft Campus - ECPv6.15.17//NONSGML v1.0//EN
CALSCALE:GREGORIAN
METHOD:PUBLISH
X-WR-CALNAME:TU Delft Campus
X-ORIGINAL-URL:https://oud.tudelftcampus.nl
X-WR-CALDESC:Events for TU Delft Campus
REFRESH-INTERVAL;VALUE=DURATION:PT1H
X-Robots-Tag:noindex
X-PUBLISHED-TTL:PT1H
BEGIN:VTIMEZONE
TZID:Europe/Amsterdam
BEGIN:DAYLIGHT
TZOFFSETFROM:+0100
TZOFFSETTO:+0200
TZNAME:CEST
DTSTART:20230326T010000
END:DAYLIGHT
BEGIN:STANDARD
TZOFFSETFROM:+0200
TZOFFSETTO:+0100
TZNAME:CET
DTSTART:20231029T010000
END:STANDARD
BEGIN:DAYLIGHT
TZOFFSETFROM:+0100
TZOFFSETTO:+0200
TZNAME:CEST
DTSTART:20240331T010000
END:DAYLIGHT
BEGIN:STANDARD
TZOFFSETFROM:+0200
TZOFFSETTO:+0100
TZNAME:CET
DTSTART:20241027T010000
END:STANDARD
BEGIN:DAYLIGHT
TZOFFSETFROM:+0100
TZOFFSETTO:+0200
TZNAME:CEST
DTSTART:20250330T010000
END:DAYLIGHT
BEGIN:STANDARD
TZOFFSETFROM:+0200
TZOFFSETTO:+0100
TZNAME:CET
DTSTART:20251026T010000
END:STANDARD
END:VTIMEZONE
BEGIN:VEVENT
DTSTART;TZID=Europe/Amsterdam:20240208T163000
DTEND;TZID=Europe/Amsterdam:20240208T200000
DTSTAMP:20260422T175510
CREATED:20231128T080117Z
LAST-MODIFIED:20240131T133053Z
UID:18898-1707409800-1707422400@oud.tudelftcampus.nl
SUMMARY:Community Run
DESCRIPTION:  \nWe’re excited to invite you to participate in the very first TU Delft Campus Community Run! Lace-up your running shoes\, gather your colleagues\, and join us for 5 km of fun\, fitness\, and community spirit. Whether you’re a seasoned runner or just starting your fitness journey\, this event is for everyone! \nOf course\, we also welcome those who prefer cheering over running. Join us in coming together for our monthly TU Delft Campus Community Drinks at Firma van Buiten\, where the run finishes. Let’s unite to support the runners\, sipping on hot chocolate beneath the warmth of a cozy blanket. \nSpaces for the 5 km Community Run are limited\, so make sure to reserve your spot today\, and start training for this exciting community event! \nJoin us and let’s run towards a stronger\, healthier\, and more connected community! \nStart location\nNEXT Delft\nMolengraaffsingel 8\, Delft \nEnd location & TU Delft Campus Community Drinks\nFirma van Buiten\nThijsseweg 1\, Delft
URL:https://oud.tudelftcampus.nl/event/tu-delft-campus-community-run/
LOCATION:Firma van Buiten\, Thijsseweg 1\, Delft\, 2629 JA
ATTACH;FMTTYPE=image/jpeg:https://oud.tudelftcampus.nl/wp-content/uploads/2023/11/miguel-a-amutio-QDv-uBc-poY-unsplash-scaled.jpg
END:VEVENT
END:VCALENDAR