BEGIN:VCALENDAR
VERSION:2.0
PRODID:-//TU Delft Campus - ECPv6.15.17//NONSGML v1.0//EN
CALSCALE:GREGORIAN
METHOD:PUBLISH
X-WR-CALNAME:TU Delft Campus
X-ORIGINAL-URL:https://oud.tudelftcampus.nl
X-WR-CALDESC:Events for TU Delft Campus
REFRESH-INTERVAL;VALUE=DURATION:PT1H
X-Robots-Tag:noindex
X-PUBLISHED-TTL:PT1H
BEGIN:VTIMEZONE
TZID:UTC
BEGIN:STANDARD
TZOFFSETFROM:+0000
TZOFFSETTO:+0000
TZNAME:UTC
DTSTART:20220101T000000
END:STANDARD
END:VTIMEZONE
BEGIN:VEVENT
DTSTART;TZID=UTC:20230706T170000
DTEND;TZID=UTC:20230706T200000
DTSTAMP:20260423T034139
CREATED:20230517T104536Z
LAST-MODIFIED:20230517T104536Z
UID:15961-1688662800-1688673600@oud.tudelftcampus.nl
SUMMARY:TU Delft Campus Community Drinks
DESCRIPTION:  \nWe are here to help you finish your workday with a bang! Come and toast with your colleagues and friends at TU Delft Campus’ monthly community drinks\, which we organize at and together with Firma van Buiten! Mingle with your neighbors and fellow tech enthusiasts while enjoying special beers\, fruity wines and great music. Reservations are not necessary\, just walk into the living room of Zuid. \nLocation\nFirma van Buiten\nThijsseweg 1\, 2629 JA Delft
URL:https://oud.tudelftcampus.nl/event/tu-delft-campus-community-drinks-10/
LOCATION:Firma van Buiten\, Thijsseweg 1\, Delft\, 2629 JA
ATTACH;FMTTYPE=image/jpeg:https://oud.tudelftcampus.nl/wp-content/uploads/2022/12/Web-capture_19-12-2022_132843_www.linkedin.com_.jpeg
END:VEVENT
END:VCALENDAR