BEGIN:VCALENDAR
VERSION:2.0
PRODID:-//TU Delft Campus - ECPv6.15.17//NONSGML v1.0//EN
CALSCALE:GREGORIAN
METHOD:PUBLISH
X-WR-CALNAME:TU Delft Campus
X-ORIGINAL-URL:https://oud.tudelftcampus.nl
X-WR-CALDESC:Events for TU Delft Campus
REFRESH-INTERVAL;VALUE=DURATION:PT1H
X-Robots-Tag:noindex
X-PUBLISHED-TTL:PT1H
BEGIN:VTIMEZONE
TZID:Europe/Amsterdam
BEGIN:DAYLIGHT
TZOFFSETFROM:+0100
TZOFFSETTO:+0200
TZNAME:CEST
DTSTART:20240331T010000
END:DAYLIGHT
BEGIN:STANDARD
TZOFFSETFROM:+0200
TZOFFSETTO:+0100
TZNAME:CET
DTSTART:20241027T010000
END:STANDARD
BEGIN:DAYLIGHT
TZOFFSETFROM:+0100
TZOFFSETTO:+0200
TZNAME:CEST
DTSTART:20250330T010000
END:DAYLIGHT
BEGIN:STANDARD
TZOFFSETFROM:+0200
TZOFFSETTO:+0100
TZNAME:CET
DTSTART:20251026T010000
END:STANDARD
BEGIN:DAYLIGHT
TZOFFSETFROM:+0100
TZOFFSETTO:+0200
TZNAME:CEST
DTSTART:20260329T010000
END:DAYLIGHT
BEGIN:STANDARD
TZOFFSETFROM:+0200
TZOFFSETTO:+0100
TZNAME:CET
DTSTART:20261025T010000
END:STANDARD
END:VTIMEZONE
BEGIN:VEVENT
DTSTART;VALUE=DATE:20251210
DTEND;VALUE=DATE:20251213
DTSTAMP:20260422T003930
CREATED:20251104T133605Z
LAST-MODIFIED:20251104T133605Z
UID:24643-1765324800-1765583999@oud.tudelftcampus.nl
SUMMARY:Tools from the Quantum Industry Workshop
DESCRIPTION:  \nTools from the Quantum Industry Workshop\n\nOn behalf of the QuTech Academy and Quantum Delta Delft\, we would like to invite you to the second edition of the Tools from the Quantum Industry Workshop set to take place on December 10-12\, 2025\, at the TU Delft Campus. \n\nThis intensive three-day program will be open to both internal participants from QuTech and TU Delft\, as well as external attendees \n\nWhen: Wednesday 10 to Friday 12 December\, 2025\nWhere: Theater Hall in X\, TU Delft Campus (Mekelweg 8-10\, 2628 CD Delft\, NL). The venue is “X” on TU Delft campus\, easily accessible by bike and public transport.\nPrice: External €75 | QuTech\, TU Delft\, De Haagse Hogeschool – FREE |\nFor who: PhD students\, postdocs\, professors\, engineers\, technicians\, etc.\n\nTo register\, fill in this form before the 3rd December. \nThe workshop aims to immerse participants in the latest tools by the quantum industry\, and to offer practical learning experiences. The event is tailored for a broad audience\, including PhD students\, postdoctoral researchers\, professors\, engineers\, technicians\, etc.\, all of whom will gain practical insights into quantum technology. \nThe workshop will feature industry-leading companies\, and reflects QuTech Academy and Quantum Delta Delft’s ongoing commitment to advancing education in quantum technology and supporting the growth of a skilled workforce in the quantum industry. \nTU Delft PhD students who attend the full three days are eligible to receive two Graduate School credits. The workshop is free for QuTech\, TU Delft affiliates and De Haagse Hogeschool attendees\, while external participants can register for €75 for the full workshop experience (or 30€ for one day). \nRegister here! \nFor questions contact info-QuTechAcademy@tudelft.nl and visit the event page for the full schedule and event details (coming soon).
URL:https://oud.tudelftcampus.nl/event/tools-from-the-quantum-industry-workshop/
LOCATION:X TU Delft\, Mekelweg 8-10\, Delft\, 2628 CD\, Netherlands
ATTACH;FMTTYPE=image/jpeg:https://oud.tudelftcampus.nl/wp-content/uploads/2025/11/20250512_QDNL_QuantumMeets_RebekkaMell_157-scaled.jpg
END:VEVENT
END:VCALENDAR