BEGIN:VCALENDAR
VERSION:2.0
PRODID:-//TU Delft Campus - ECPv6.15.17//NONSGML v1.0//EN
CALSCALE:GREGORIAN
METHOD:PUBLISH
X-WR-CALNAME:TU Delft Campus
X-ORIGINAL-URL:https://oud.tudelftcampus.nl
X-WR-CALDESC:Events for TU Delft Campus
REFRESH-INTERVAL;VALUE=DURATION:PT1H
X-Robots-Tag:noindex
X-PUBLISHED-TTL:PT1H
BEGIN:VTIMEZONE
TZID:Europe/Amsterdam
BEGIN:DAYLIGHT
TZOFFSETFROM:+0100
TZOFFSETTO:+0200
TZNAME:CEST
DTSTART:20230326T010000
END:DAYLIGHT
BEGIN:STANDARD
TZOFFSETFROM:+0200
TZOFFSETTO:+0100
TZNAME:CET
DTSTART:20231029T010000
END:STANDARD
BEGIN:DAYLIGHT
TZOFFSETFROM:+0100
TZOFFSETTO:+0200
TZNAME:CEST
DTSTART:20240331T010000
END:DAYLIGHT
BEGIN:STANDARD
TZOFFSETFROM:+0200
TZOFFSETTO:+0100
TZNAME:CET
DTSTART:20241027T010000
END:STANDARD
BEGIN:DAYLIGHT
TZOFFSETFROM:+0100
TZOFFSETTO:+0200
TZNAME:CEST
DTSTART:20250330T010000
END:DAYLIGHT
BEGIN:STANDARD
TZOFFSETFROM:+0200
TZOFFSETTO:+0100
TZNAME:CET
DTSTART:20251026T010000
END:STANDARD
END:VTIMEZONE
BEGIN:VEVENT
DTSTART;VALUE=DATE:20240201
DTEND;VALUE=DATE:20240204
DTSTAMP:20260422T181327
CREATED:20240108T093118Z
LAST-MODIFIED:20240108T094135Z
UID:19524-1706745600-1707004799@oud.tudelftcampus.nl
SUMMARY:Synergy Hackathon
DESCRIPTION:  \nThe Synergy Hackathon brings together the brightest innovators\, artists\, builders\, hacktivists and explorers with public and private organisations that support our common vision: to create and promote a new energy reality. You’re invited by The Green Village to join them in building a new energy system that will last for many generations to come. This system must operate exclusively on renewable energy sources with a focus on inclusion\, welcoming all energy actors. \nWant to know more about this Hackathon? \nFind more information and register here!
URL:https://oud.tudelftcampus.nl/event/synergy-hackathon/
LOCATION:The Green Village\, Van den Broekweg\, Delft\, 2628 CR
ATTACH;FMTTYPE=image/png:https://oud.tudelftcampus.nl/wp-content/uploads/2024/01/Visual_4_113_2.png
END:VEVENT
END:VCALENDAR