BEGIN:VCALENDAR
VERSION:2.0
PRODID:-//TU Delft Campus - ECPv6.15.17//NONSGML v1.0//EN
CALSCALE:GREGORIAN
METHOD:PUBLISH
X-WR-CALNAME:TU Delft Campus
X-ORIGINAL-URL:https://oud.tudelftcampus.nl
X-WR-CALDESC:Events for TU Delft Campus
REFRESH-INTERVAL;VALUE=DURATION:PT1H
X-Robots-Tag:noindex
X-PUBLISHED-TTL:PT1H
BEGIN:VTIMEZONE
TZID:Europe/Amsterdam
BEGIN:DAYLIGHT
TZOFFSETFROM:+0100
TZOFFSETTO:+0200
TZNAME:CEST
DTSTART:20220327T010000
END:DAYLIGHT
BEGIN:STANDARD
TZOFFSETFROM:+0200
TZOFFSETTO:+0100
TZNAME:CET
DTSTART:20221030T010000
END:STANDARD
BEGIN:DAYLIGHT
TZOFFSETFROM:+0100
TZOFFSETTO:+0200
TZNAME:CEST
DTSTART:20230326T010000
END:DAYLIGHT
BEGIN:STANDARD
TZOFFSETFROM:+0200
TZOFFSETTO:+0100
TZNAME:CET
DTSTART:20231029T010000
END:STANDARD
BEGIN:DAYLIGHT
TZOFFSETFROM:+0100
TZOFFSETTO:+0200
TZNAME:CEST
DTSTART:20240331T010000
END:DAYLIGHT
BEGIN:STANDARD
TZOFFSETFROM:+0200
TZOFFSETTO:+0100
TZNAME:CET
DTSTART:20241027T010000
END:STANDARD
END:VTIMEZONE
BEGIN:VEVENT
DTSTART;TZID=Europe/Amsterdam:20231109T173000
DTEND;TZID=Europe/Amsterdam:20231109T203000
DTSTAMP:20260422T215936
CREATED:20231010T122520Z
LAST-MODIFIED:20231108T134503Z
UID:18131-1699551000-1699561800@oud.tudelftcampus.nl
SUMMARY:RoboHouse Celebrates - RoboHouse & Festo [postponed to 2024]
DESCRIPTION:  \nRoboHouse & Festo  \nIt’s once again time to celebrate! Join us on November 9th as we drink to the extension of the productive partnership between Festo and RoboHouse. We’re looking forward to another five years of shaping the future of work together. \nProgramme\n17:30 Welcome! Have a drink and a snack\n20:30 Closing \nLocation\nEXPO of RoboHouse \nJulianalaan 67\, Delft
URL:https://oud.tudelftcampus.nl/event/robohouse_celebrates_festo/
LOCATION:RoboHouse\, Julianalaan 67\, Delft\, 2628 BC
ATTACH;FMTTYPE=image/png:https://oud.tudelftcampus.nl/wp-content/uploads/2023/10/image005.png
END:VEVENT
END:VCALENDAR