BEGIN:VCALENDAR
VERSION:2.0
PRODID:-//TU Delft Campus - ECPv6.15.17//NONSGML v1.0//EN
CALSCALE:GREGORIAN
METHOD:PUBLISH
X-WR-CALNAME:TU Delft Campus
X-ORIGINAL-URL:https://oud.tudelftcampus.nl
X-WR-CALDESC:Events for TU Delft Campus
REFRESH-INTERVAL;VALUE=DURATION:PT1H
X-Robots-Tag:noindex
X-PUBLISHED-TTL:PT1H
BEGIN:VTIMEZONE
TZID:Europe/Amsterdam
BEGIN:DAYLIGHT
TZOFFSETFROM:+0100
TZOFFSETTO:+0200
TZNAME:CEST
DTSTART:20230326T010000
END:DAYLIGHT
BEGIN:STANDARD
TZOFFSETFROM:+0200
TZOFFSETTO:+0100
TZNAME:CET
DTSTART:20231029T010000
END:STANDARD
BEGIN:DAYLIGHT
TZOFFSETFROM:+0100
TZOFFSETTO:+0200
TZNAME:CEST
DTSTART:20240331T010000
END:DAYLIGHT
BEGIN:STANDARD
TZOFFSETFROM:+0200
TZOFFSETTO:+0100
TZNAME:CET
DTSTART:20241027T010000
END:STANDARD
BEGIN:DAYLIGHT
TZOFFSETFROM:+0100
TZOFFSETTO:+0200
TZNAME:CEST
DTSTART:20250330T010000
END:DAYLIGHT
BEGIN:STANDARD
TZOFFSETFROM:+0200
TZOFFSETTO:+0100
TZNAME:CET
DTSTART:20251026T010000
END:STANDARD
END:VTIMEZONE
BEGIN:VEVENT
DTSTART;TZID=Europe/Amsterdam:20240126T150000
DTEND;TZID=Europe/Amsterdam:20240126T170000
DTSTAMP:20260422T175629
CREATED:20240111T101100Z
LAST-MODIFIED:20240111T101100Z
UID:19661-1706281200-1706288400@oud.tudelftcampus.nl
SUMMARY:Robohouse - Demo Day 2024
DESCRIPTION:  \nWant to see the latest robotic prototypes TU Delft students built on behalf of companies? \nIn the past five months multidisciplinary student teams of the TU Delft minor Robotics have created robots from scratch. Their minor has come to an end and the student teams will demonstrate their projects to the world during Demo Day 2024. Come and see these prototypes in action. Welcome to the most exciting day of the year! \nFind the full programme here!
URL:https://oud.tudelftcampus.nl/event/robohouse-demo-day-2024/
LOCATION:RoboHouse\, Julianalaan 67\, Delft\, 2628 BC
ATTACH;FMTTYPE=image/jpeg:https://oud.tudelftcampus.nl/wp-content/uploads/2024/01/Minor-Robobtics_announcement_2022-1280x0-c-default.jpeg
END:VEVENT
END:VCALENDAR