BEGIN:VCALENDAR
VERSION:2.0
PRODID:-//TU Delft Campus - ECPv6.15.17//NONSGML v1.0//EN
CALSCALE:GREGORIAN
METHOD:PUBLISH
X-WR-CALNAME:TU Delft Campus
X-ORIGINAL-URL:https://oud.tudelftcampus.nl
X-WR-CALDESC:Events for TU Delft Campus
REFRESH-INTERVAL;VALUE=DURATION:PT1H
X-Robots-Tag:noindex
X-PUBLISHED-TTL:PT1H
BEGIN:VTIMEZONE
TZID:Europe/Amsterdam
BEGIN:DAYLIGHT
TZOFFSETFROM:+0100
TZOFFSETTO:+0200
TZNAME:CEST
DTSTART:20220327T010000
END:DAYLIGHT
BEGIN:STANDARD
TZOFFSETFROM:+0200
TZOFFSETTO:+0100
TZNAME:CET
DTSTART:20221030T010000
END:STANDARD
BEGIN:DAYLIGHT
TZOFFSETFROM:+0100
TZOFFSETTO:+0200
TZNAME:CEST
DTSTART:20230326T010000
END:DAYLIGHT
BEGIN:STANDARD
TZOFFSETFROM:+0200
TZOFFSETTO:+0100
TZNAME:CET
DTSTART:20231029T010000
END:STANDARD
BEGIN:DAYLIGHT
TZOFFSETFROM:+0100
TZOFFSETTO:+0200
TZNAME:CEST
DTSTART:20240331T010000
END:DAYLIGHT
BEGIN:STANDARD
TZOFFSETFROM:+0200
TZOFFSETTO:+0100
TZNAME:CET
DTSTART:20241027T010000
END:STANDARD
END:VTIMEZONE
BEGIN:VEVENT
DTSTART;TZID=Europe/Amsterdam:20231102T193000
DTEND;TZID=Europe/Amsterdam:20231102T203000
DTSTAMP:20260422T233640
CREATED:20231010T120739Z
LAST-MODIFIED:20231010T120739Z
UID:18126-1698953400-1698957000@oud.tudelftcampus.nl
SUMMARY:ROS Meetup - Netherlands
DESCRIPTION:  \nTwo weeks after the ROSCon 2023 in New Orleans\, this learnings will be shared with the ROS community in the Netherlands.  \nThe ROS Netherlands developer meetup is a place for ROS developers to come together\, hear the latest updates from the ROS community\, share ideas\, and network. Speakers and attendees from the conference will share their learnings from this year’s ROSCon event with the Dutch Community. \nProgramme\n17:30 Welcome! Have a drink\n18:00 Presentation\n19:00 Networking drinks\n20:30 End of event \nLocation\nRoboHouse\, Julianalaan 67\, Delft \nRegister for this event through the website of RoboHouse
URL:https://oud.tudelftcampus.nl/event/robocafe-ros_meetup/
LOCATION:RoboHouse\, Julianalaan 67\, Delft\, 2628 BC
ATTACH;FMTTYPE=image/jpeg:https://oud.tudelftcampus.nl/wp-content/uploads/2023/10/https___cdn.evbuc_.com_images_613789239_1705041533463_1_original-940x0-c-default.jpeg
END:VEVENT
END:VCALENDAR