BEGIN:VCALENDAR
VERSION:2.0
PRODID:-//TU Delft Campus - ECPv6.15.17//NONSGML v1.0//EN
CALSCALE:GREGORIAN
METHOD:PUBLISH
X-WR-CALNAME:TU Delft Campus
X-ORIGINAL-URL:https://oud.tudelftcampus.nl
X-WR-CALDESC:Events for TU Delft Campus
REFRESH-INTERVAL;VALUE=DURATION:PT1H
X-Robots-Tag:noindex
X-PUBLISHED-TTL:PT1H
BEGIN:VTIMEZONE
TZID:Europe/Amsterdam
BEGIN:DAYLIGHT
TZOFFSETFROM:+0100
TZOFFSETTO:+0200
TZNAME:CEST
DTSTART:20220327T010000
END:DAYLIGHT
BEGIN:STANDARD
TZOFFSETFROM:+0200
TZOFFSETTO:+0100
TZNAME:CET
DTSTART:20221030T010000
END:STANDARD
BEGIN:DAYLIGHT
TZOFFSETFROM:+0100
TZOFFSETTO:+0200
TZNAME:CEST
DTSTART:20230326T010000
END:DAYLIGHT
BEGIN:STANDARD
TZOFFSETFROM:+0200
TZOFFSETTO:+0100
TZNAME:CET
DTSTART:20231029T010000
END:STANDARD
BEGIN:DAYLIGHT
TZOFFSETFROM:+0100
TZOFFSETTO:+0200
TZNAME:CEST
DTSTART:20240331T010000
END:DAYLIGHT
BEGIN:STANDARD
TZOFFSETFROM:+0200
TZOFFSETTO:+0100
TZNAME:CET
DTSTART:20241027T010000
END:STANDARD
END:VTIMEZONE
BEGIN:VEVENT
DTSTART;TZID=Europe/Amsterdam:20231010T170000
DTEND;TZID=Europe/Amsterdam:20231010T190000
DTSTAMP:20260422T233719
CREATED:20230904T124216Z
LAST-MODIFIED:20230904T124216Z
UID:17656-1696957200-1696964400@oud.tudelftcampus.nl
SUMMARY:RoboCafé: Autonomous processes
DESCRIPTION:  \nCan we use robotics and AI to automate? \nFor this edition of RoboCafé\, Robohouse invites Crijn Boumans\, CEO and co-founder of Rocsys\, to the stage. Rocsys is the leader in autonomous charging solutions for electric transportation. Crijn is a familiar speaker\, as he has performed at several RoboCafés in the past. In his first revamped RoboCafé\, he will talk about deploying robotics and AI in the automatic charging of electric vehicles. \nProgramme\n17:00 Welcome! Have a drink and a snack\n17:20 Presentation\, demos + Q&A by Crijn Bouman (Co-founder and CEO at Rocsys)\n17:50 Discussions\, networking & drinks\n19:00 End of RoboCafé \nLocation\nEXPO of RoboHouse \nJulianalaan 67\, Delft \nRegister for this event through the website of RoboHouse
URL:https://oud.tudelftcampus.nl/event/robocafe-autonomous-processes/
LOCATION:RoboHouse\, Julianalaan 67\, Delft\, 2628 BC
ATTACH;FMTTYPE=image/png:https://oud.tudelftcampus.nl/wp-content/uploads/2023/08/RoboCafe-visual-PPT-Oktober-10-1280x0-c-default.png
END:VEVENT
END:VCALENDAR