BEGIN:VCALENDAR
VERSION:2.0
PRODID:-//TU Delft Campus - ECPv6.15.17//NONSGML v1.0//EN
CALSCALE:GREGORIAN
METHOD:PUBLISH
X-WR-CALNAME:TU Delft Campus
X-ORIGINAL-URL:https://oud.tudelftcampus.nl
X-WR-CALDESC:Events for TU Delft Campus
REFRESH-INTERVAL;VALUE=DURATION:PT1H
X-Robots-Tag:noindex
X-PUBLISHED-TTL:PT1H
BEGIN:VTIMEZONE
TZID:Europe/Amsterdam
BEGIN:DAYLIGHT
TZOFFSETFROM:+0100
TZOFFSETTO:+0200
TZNAME:CEST
DTSTART:20230326T010000
END:DAYLIGHT
BEGIN:STANDARD
TZOFFSETFROM:+0200
TZOFFSETTO:+0100
TZNAME:CET
DTSTART:20231029T010000
END:STANDARD
BEGIN:DAYLIGHT
TZOFFSETFROM:+0100
TZOFFSETTO:+0200
TZNAME:CEST
DTSTART:20240331T010000
END:DAYLIGHT
BEGIN:STANDARD
TZOFFSETFROM:+0200
TZOFFSETTO:+0100
TZNAME:CET
DTSTART:20241027T010000
END:STANDARD
BEGIN:DAYLIGHT
TZOFFSETFROM:+0100
TZOFFSETTO:+0200
TZNAME:CEST
DTSTART:20250330T010000
END:DAYLIGHT
BEGIN:STANDARD
TZOFFSETFROM:+0200
TZOFFSETTO:+0100
TZNAME:CET
DTSTART:20251026T010000
END:STANDARD
END:VTIMEZONE
BEGIN:VEVENT
DTSTART;TZID=Europe/Amsterdam:20241105T093000
DTEND;TZID=Europe/Amsterdam:20241105T170000
DTSTAMP:20260422T061251
CREATED:20241029T135245Z
LAST-MODIFIED:20241029T142752Z
UID:23099-1730799000-1730826000@oud.tudelftcampus.nl
SUMMARY:Research & Innovation Event: Hydrogen Green Chemistry
DESCRIPTION:About the event​​\n\n\n\n\nWe are happy to announce the second TU Delft Research & Innovation Event! This edition will take place on Tuesday\, November 5\, from 09:30 to 17:00 in the TU Delft Aula Conference Centre. Learn about recent developments and research in Hydrogen and Green Chemistry and connect with key players in the energy transition. The program will be a mix of visionary plenary speakers\, deep dive break-out sessions and our Hydrogen & Green Chemistry Marketplace. \nThe day will be started with a keynote presentation by Bruno Fichefeux\, SVP – Head of Future Programmes at Airbus. Next\, we host two rounds of break-out sessions consisting of presentations and short pitches. \nThe extensive lunch break takes place at our Hydrogen & Green Chemistry Marketplace\, where you can meet and interact with like-minded peers at one of the Collaboration Tables\, visit the TU Delft stands and New Innovation Corner\, have in-depth discussions in the Poster Section\, or be amazed by the TU Delft Student Teams. \nMore information about the program\, speakers & break-out sessions. \nMore information about the Hydrogen & Green Chemistry marketplace. \nThis event is free of charge\, but spots are limited. Register below to secure your spot now!  \nRegister!
URL:https://oud.tudelftcampus.nl/event/research-innovation-event-hydrogen-green-chemistry/
LOCATION:TU Delft Aula\, Mekelweg 5 2628 CC\, Delft\, Zuid-Holland\, Netherlands
ATTACH;FMTTYPE=image/jpeg:https://oud.tudelftcampus.nl/wp-content/uploads/2024/10/TU-Delft-Research-Innovation-event-2.jpeg
END:VEVENT
END:VCALENDAR