BEGIN:VCALENDAR
VERSION:2.0
PRODID:-//TU Delft Campus - ECPv6.15.17//NONSGML v1.0//EN
CALSCALE:GREGORIAN
METHOD:PUBLISH
X-WR-CALNAME:TU Delft Campus
X-ORIGINAL-URL:https://oud.tudelftcampus.nl
X-WR-CALDESC:Events for TU Delft Campus
REFRESH-INTERVAL;VALUE=DURATION:PT1H
X-Robots-Tag:noindex
X-PUBLISHED-TTL:PT1H
BEGIN:VTIMEZONE
TZID:Europe/Amsterdam
BEGIN:DAYLIGHT
TZOFFSETFROM:+0100
TZOFFSETTO:+0200
TZNAME:CEST
DTSTART:20230326T010000
END:DAYLIGHT
BEGIN:STANDARD
TZOFFSETFROM:+0200
TZOFFSETTO:+0100
TZNAME:CET
DTSTART:20231029T010000
END:STANDARD
BEGIN:DAYLIGHT
TZOFFSETFROM:+0100
TZOFFSETTO:+0200
TZNAME:CEST
DTSTART:20240331T010000
END:DAYLIGHT
BEGIN:STANDARD
TZOFFSETFROM:+0200
TZOFFSETTO:+0100
TZNAME:CET
DTSTART:20241027T010000
END:STANDARD
BEGIN:DAYLIGHT
TZOFFSETFROM:+0100
TZOFFSETTO:+0200
TZNAME:CEST
DTSTART:20250330T010000
END:DAYLIGHT
BEGIN:STANDARD
TZOFFSETFROM:+0200
TZOFFSETTO:+0100
TZNAME:CET
DTSTART:20251026T010000
END:STANDARD
END:VTIMEZONE
BEGIN:VEVENT
DTSTART;TZID=Europe/Amsterdam:20240411T140000
DTEND;TZID=Europe/Amsterdam:20240411T170000
DTSTAMP:20260422T115644
CREATED:20240226T193607Z
LAST-MODIFIED:20240328T103520Z
UID:20692-1712844000-1712854800@oud.tudelftcampus.nl
SUMMARY:Port-Maritime Demo Day
DESCRIPTION:Are you active in the port-maritime sector and are you curious about what robotics can offer your company? Come to the Port-Maritime Demo Day at RoboHouse on the TU Delft Campus. Start your journey in robotics and come to the Demo Day on April 11\, 2024.\nProgram\n14:30 uur Walk in\n15:00 uur Opening by Dominique Nieuwpoort from Digitalz and introduction Robohouse\n15:10 uur Entrepreneur speaking: Gerbet Smits from 10XL\n15:30 uur Live-demo round 1*\n15:50 uur Break\n16:00 uur Live-demo round 2*\n16:20 uur Live-demo round 3*\n16:40 uur Plenary\n16:50 uur Network drink and innovation market with Qafka Robotics\, TU Delft Cognitive Robotics\, Robohouse.\n17:30 uur End of event \nThis event is organised by DigitalZH\, Robohouse and iTanks.\n \nFor this demo day\, preference is given to participants of companies who are looking for (robotisation) solutions for their issues. \nA waiting list is used for service providers. \n*Live demos by:\n– Inspection and hull cleaning robot demo by Alex Noordstrand of Fleet Cleaner\n– Maintenance and repair Robot Demo by Auke Nachenius from Robohouse\n– Assembly digital instruction demo by Jeroen van Oosterhout from TNO \nTo register\nRegister for the demo day. \nTo ask?\nContact our Program manager Mark Bruijnen on 06 – 110 083 23 or m.c.bruijnen@tudelft.nl \n  \n 
URL:https://oud.tudelftcampus.nl/event/port-maritime-demo-day/
LOCATION:RoboHouse\, Julianalaan 67\, Delft\, 2628 BC
ATTACH;FMTTYPE=image/jpeg:https://oud.tudelftcampus.nl/wp-content/uploads/2024/02/230711-Senseglove-Event-186-1280x0-c-default.jpg
END:VEVENT
END:VCALENDAR