BEGIN:VCALENDAR
VERSION:2.0
PRODID:-//TU Delft Campus - ECPv6.15.17//NONSGML v1.0//EN
CALSCALE:GREGORIAN
METHOD:PUBLISH
X-WR-CALNAME:TU Delft Campus
X-ORIGINAL-URL:https://oud.tudelftcampus.nl
X-WR-CALDESC:Events for TU Delft Campus
REFRESH-INTERVAL;VALUE=DURATION:PT1H
X-Robots-Tag:noindex
X-PUBLISHED-TTL:PT1H
BEGIN:VTIMEZONE
TZID:Europe/Amsterdam
BEGIN:DAYLIGHT
TZOFFSETFROM:+0100
TZOFFSETTO:+0200
TZNAME:CEST
DTSTART:20220327T010000
END:DAYLIGHT
BEGIN:STANDARD
TZOFFSETFROM:+0200
TZOFFSETTO:+0100
TZNAME:CET
DTSTART:20221030T010000
END:STANDARD
BEGIN:DAYLIGHT
TZOFFSETFROM:+0100
TZOFFSETTO:+0200
TZNAME:CEST
DTSTART:20230326T010000
END:DAYLIGHT
BEGIN:STANDARD
TZOFFSETFROM:+0200
TZOFFSETTO:+0100
TZNAME:CET
DTSTART:20231029T010000
END:STANDARD
BEGIN:DAYLIGHT
TZOFFSETFROM:+0100
TZOFFSETTO:+0200
TZNAME:CEST
DTSTART:20240331T010000
END:DAYLIGHT
BEGIN:STANDARD
TZOFFSETFROM:+0200
TZOFFSETTO:+0100
TZNAME:CET
DTSTART:20241027T010000
END:STANDARD
END:VTIMEZONE
BEGIN:VEVENT
DTSTART;TZID=Europe/Amsterdam:20230828T230000
DTEND;TZID=Europe/Amsterdam:20230828T234500
DTSTAMP:20260423T053419
CREATED:20230801T151257Z
LAST-MODIFIED:20230801T151257Z
UID:17165-1693263600-1693266300@oud.tudelftcampus.nl
SUMMARY:Online info session
DESCRIPTION:  \nDuring the Online Info Session with YES!Delft’s Startup Scout Asier Segura Elorza you get the chance to get inspired\, ask all your questions and connect with fellow (potential-) entrepreneurs! \n\n\nPROGRAM\nDuring the Online Info Session you will learn about YES!Delft and all the services provided to startups and scaleups. YES!Delft’s Program and Event Manager Pablo Benéitez will be available to answer all your questions about YES!Delft and the facilities for startups. With 80% success rate of the incubated startups\, you will get a boost of motivation for your startup idea. \nTIMETABLE: \n\n11.00-11.05: Introduction\n11.05-11.25: YES!Delft Presentation\n11.30-11.45: Q&A\n\n\n\n\n\nFOR WHO\nYES!Delft online info session is open to everyone interested in joining our incubator. \nATTENDING AN INFO SESSION\nJoining an Online Info Session is free\, but registration is necessary. \n\n\nRegister here!
URL:https://oud.tudelftcampus.nl/event/online-info-session/
LOCATION:Online
ATTACH;FMTTYPE=image/png:https://oud.tudelftcampus.nl/wp-content/uploads/2023/08/Schermafbeelding-2023-08-01-om-17.05.19.png
END:VEVENT
END:VCALENDAR