BEGIN:VCALENDAR
VERSION:2.0
PRODID:-//TU Delft Campus - ECPv6.15.17//NONSGML v1.0//EN
CALSCALE:GREGORIAN
METHOD:PUBLISH
X-WR-CALNAME:TU Delft Campus
X-ORIGINAL-URL:https://oud.tudelftcampus.nl
X-WR-CALDESC:Events for TU Delft Campus
REFRESH-INTERVAL;VALUE=DURATION:PT1H
X-Robots-Tag:noindex
X-PUBLISHED-TTL:PT1H
BEGIN:VTIMEZONE
TZID:Europe/Amsterdam
BEGIN:DAYLIGHT
TZOFFSETFROM:+0100
TZOFFSETTO:+0200
TZNAME:CEST
DTSTART:20230326T010000
END:DAYLIGHT
BEGIN:STANDARD
TZOFFSETFROM:+0200
TZOFFSETTO:+0100
TZNAME:CET
DTSTART:20231029T010000
END:STANDARD
BEGIN:DAYLIGHT
TZOFFSETFROM:+0100
TZOFFSETTO:+0200
TZNAME:CEST
DTSTART:20240331T010000
END:DAYLIGHT
BEGIN:STANDARD
TZOFFSETFROM:+0200
TZOFFSETTO:+0100
TZNAME:CET
DTSTART:20241027T010000
END:STANDARD
BEGIN:DAYLIGHT
TZOFFSETFROM:+0100
TZOFFSETTO:+0200
TZNAME:CEST
DTSTART:20250330T010000
END:DAYLIGHT
BEGIN:STANDARD
TZOFFSETFROM:+0200
TZOFFSETTO:+0100
TZNAME:CET
DTSTART:20251026T010000
END:STANDARD
END:VTIMEZONE
BEGIN:VEVENT
DTSTART;TZID=Europe/Amsterdam:20240522T120000
DTEND;TZID=Europe/Amsterdam:20240522T140000
DTSTAMP:20260422T094906
CREATED:20240503T090654Z
LAST-MODIFIED:20240503T092554Z
UID:21688-1716379200-1716386400@oud.tudelftcampus.nl
SUMMARY:Mobility Lunch
DESCRIPTION:  \n[This event will be in Dutch] \nGoede mobiliteit is cruciaal voor organisaties en werknemers\, en de verduurzaming ervan is van groot belang. Vorig jaar is er een eerste lunchbijeenkomst geweest\, waarbij bedrijven op en rondom TU Delft Campus hun gedeelde uitdagingen en behoeften bespraken. Mocht je deze resultaten willen inzien mail dan naar Jacqueline Papendrecht\, via j.papendrecht@tudelft.nl. \nWe komen op 22 mei wederom samen voor een tweede lunchbijeenkomst waarin ditmaal het verduurzamen van de logistiek centraal zal staan. \nDe focus zal liggen op het verduurzamen van de logistiek. We zullen bespreken hoe TU Delft Campus en de omgeving zich ontwikkelen\, welke logistieke uitdagingen er zijn en welke regelingen we kunnen benutten. Daarnaast zullen we interactief werken aan het in kaart brengen van onze eigen CO₂-uitstoot in de logistiek. \nSluit jij aan\, probeer dan de volgende informatie tijdens de sessie paraat te hebben: \n\nHoeveel logistieke bewegingen komen er wekelijks naar en vanuit jouw bedrijf?\nWelke logistieke vervoerders verzorgen voornamelijk deze zendingen?\nHoe ziet het wagenpark van jouw bedrijf eruit en wat zijn de belangrijkste transportbewegingen?\nHebben jullie te maken met het vervoeren en/of opslag van gevaarlijke stoffen en batterijen?\nStellen jullie criteria aan interne logistieke en/of externe vervoerders om de CO₂-uitstoot te minimaliseren? Zo ja\, welke?\n\nWe hopen je (opnieuw) te mogen verwelkomen! \nLocatie\nFirma van Buiten\nThijsseweg 1\, Delft
URL:https://oud.tudelftcampus.nl/event/mobility-lunch/
LOCATION:Firma van Buiten\, Thijsseweg 1\, Delft\, 2629 JA
ATTACH;FMTTYPE=image/jpeg:https://oud.tudelftcampus.nl/wp-content/uploads/2023/02/Slide-44-IMG_3672-scaled.jpg
END:VEVENT
END:VCALENDAR