BEGIN:VCALENDAR
VERSION:2.0
PRODID:-//TU Delft Campus - ECPv6.15.17//NONSGML v1.0//EN
CALSCALE:GREGORIAN
METHOD:PUBLISH
X-WR-CALNAME:TU Delft Campus
X-ORIGINAL-URL:https://oud.tudelftcampus.nl
X-WR-CALDESC:Events for TU Delft Campus
REFRESH-INTERVAL;VALUE=DURATION:PT1H
X-Robots-Tag:noindex
X-PUBLISHED-TTL:PT1H
BEGIN:VTIMEZONE
TZID:Europe/Amsterdam
BEGIN:DAYLIGHT
TZOFFSETFROM:+0100
TZOFFSETTO:+0200
TZNAME:CEST
DTSTART:20230326T010000
END:DAYLIGHT
BEGIN:STANDARD
TZOFFSETFROM:+0200
TZOFFSETTO:+0100
TZNAME:CET
DTSTART:20231029T010000
END:STANDARD
BEGIN:DAYLIGHT
TZOFFSETFROM:+0100
TZOFFSETTO:+0200
TZNAME:CEST
DTSTART:20240331T010000
END:DAYLIGHT
BEGIN:STANDARD
TZOFFSETFROM:+0200
TZOFFSETTO:+0100
TZNAME:CET
DTSTART:20241027T010000
END:STANDARD
BEGIN:DAYLIGHT
TZOFFSETFROM:+0100
TZOFFSETTO:+0200
TZNAME:CEST
DTSTART:20250330T010000
END:DAYLIGHT
BEGIN:STANDARD
TZOFFSETFROM:+0200
TZOFFSETTO:+0100
TZNAME:CET
DTSTART:20251026T010000
END:STANDARD
END:VTIMEZONE
BEGIN:VEVENT
DTSTART;TZID=Europe/Amsterdam:20241118T123000
DTEND;TZID=Europe/Amsterdam:20241118T133000
DTSTAMP:20260422T042221
CREATED:20241114T122200Z
LAST-MODIFIED:20241114T125836Z
UID:23156-1731933000-1731936600@oud.tudelftcampus.nl
SUMMARY:Global Entrepreneurship Week Skills Workshop #1 - Idea!
DESCRIPTION:Global Entrepreneurship Week 2024 Lunchtime Skills Workshops \nWant to turn your entrepreneurial dreams into reality? \nThis Global Entrepreneurship Week lunchtime skills workshop series will put you on the right track. \nWorkshop #1: How to find a good start-up ideas? \nHEY! \nAre YOU going to build the next big thing? \nIn this workshop\, you will learn how to come up with more and better ideas for your future startup. \nGreat ideas are really out there\, but the trick is how to find them… \nYou will learn all about idea generation and adopting new ways of thinking to identify successful business ideas. \nThe workshop instructor is Dap Hartmann from the Delft Centre for Entrepreneurship. \nSign up here!
URL:https://oud.tudelftcampus.nl/event/global-entrepreneurship-week-skills-workshop-1-idea/
LOCATION:TU Delft Faculty of Technology\, Policy and Management: Hall B\, Jaffalaan 5\, Delft\, 2628 BX
ATTACH;FMTTYPE=image/jpeg:https://oud.tudelftcampus.nl/wp-content/uploads/2024/11/TB-gebouw-scaled.jpg
END:VEVENT
END:VCALENDAR