BEGIN:VCALENDAR
VERSION:2.0
PRODID:-//TU Delft Campus - ECPv6.15.17//NONSGML v1.0//EN
CALSCALE:GREGORIAN
METHOD:PUBLISH
X-WR-CALNAME:TU Delft Campus
X-ORIGINAL-URL:https://oud.tudelftcampus.nl
X-WR-CALDESC:Events for TU Delft Campus
REFRESH-INTERVAL;VALUE=DURATION:PT1H
X-Robots-Tag:noindex
X-PUBLISHED-TTL:PT1H
BEGIN:VTIMEZONE
TZID:Europe/Amsterdam
BEGIN:DAYLIGHT
TZOFFSETFROM:+0100
TZOFFSETTO:+0200
TZNAME:CEST
DTSTART:20230326T010000
END:DAYLIGHT
BEGIN:STANDARD
TZOFFSETFROM:+0200
TZOFFSETTO:+0100
TZNAME:CET
DTSTART:20231029T010000
END:STANDARD
BEGIN:DAYLIGHT
TZOFFSETFROM:+0100
TZOFFSETTO:+0200
TZNAME:CEST
DTSTART:20240331T010000
END:DAYLIGHT
BEGIN:STANDARD
TZOFFSETFROM:+0200
TZOFFSETTO:+0100
TZNAME:CET
DTSTART:20241027T010000
END:STANDARD
BEGIN:DAYLIGHT
TZOFFSETFROM:+0100
TZOFFSETTO:+0200
TZNAME:CEST
DTSTART:20250330T010000
END:DAYLIGHT
BEGIN:STANDARD
TZOFFSETFROM:+0200
TZOFFSETTO:+0100
TZNAME:CET
DTSTART:20251026T010000
END:STANDARD
END:VTIMEZONE
BEGIN:VEVENT
DTSTART;TZID=Europe/Amsterdam:20241122T170000
DTEND;TZID=Europe/Amsterdam:20241122T210000
DTSTAMP:20260422T042211
CREATED:20241114T130857Z
LAST-MODIFIED:20241114T131234Z
UID:23194-1732294800-1732309200@oud.tudelftcampus.nl
SUMMARY:GEW Closing Drinks Pub Quiz - YES!Delft
DESCRIPTION:Join us as we celebrate a successful GEW at our incubator! With free drinks and a Pub Quiz with prizes. \nWelcome to the GEW Closing Drinks Including Pub Quiz event at YES!Delft Students! Join us on Fri Nov 22\, 2024 at 17:00 for a fun evening of drinks and trivia. Celebrate the end of Global Entrepreneurship Week with us as we relax and test our knowledge with a pub quiz. Bring your friends and enjoy a great atmosphere with fellow entrepreneurs. Have a chance to bond with startups in the incubator and boost your networking skills. \nThere will be free drinks and snacks available throughout the available all sponsored by the Horti Science Innovation Center. Don’t miss out on this exciting event! \nSign up here!
URL:https://oud.tudelftcampus.nl/event/gew-closing-drinks-pub-quiz-yesdelft/
LOCATION:YES!Delft\, Molengraaffsingel 12\, Delft\, 2629 JD
ATTACH;FMTTYPE=image/jpeg:https://oud.tudelftcampus.nl/wp-content/uploads/2024/11/Tu-delft-drinks.jpg
END:VEVENT
END:VCALENDAR